BEGIN:VCALENDAR
VERSION:2.0
PRODID:-//Sarah Ruth Alexander - ECPv6.15.20//NONSGML v1.0//EN
CALSCALE:GREGORIAN
METHOD:PUBLISH
X-WR-CALNAME:Sarah Ruth Alexander
X-ORIGINAL-URL:https://www.sarahruthalexander.com
X-WR-CALDESC:Events for Sarah Ruth Alexander
REFRESH-INTERVAL;VALUE=DURATION:PT1H
X-Robots-Tag:noindex
X-PUBLISHED-TTL:PT1H
BEGIN:VTIMEZONE
TZID:America/Chicago
BEGIN:DAYLIGHT
TZOFFSETFROM:-0600
TZOFFSETTO:-0500
TZNAME:CDT
DTSTART:20250309T080000
END:DAYLIGHT
BEGIN:STANDARD
TZOFFSETFROM:-0500
TZOFFSETTO:-0600
TZNAME:CST
DTSTART:20251102T070000
END:STANDARD
BEGIN:DAYLIGHT
TZOFFSETFROM:-0600
TZOFFSETTO:-0500
TZNAME:CDT
DTSTART:20260308T080000
END:DAYLIGHT
BEGIN:STANDARD
TZOFFSETFROM:-0500
TZOFFSETTO:-0600
TZNAME:CST
DTSTART:20261101T070000
END:STANDARD
BEGIN:DAYLIGHT
TZOFFSETFROM:-0600
TZOFFSETTO:-0500
TZNAME:CDT
DTSTART:20270314T080000
END:DAYLIGHT
BEGIN:STANDARD
TZOFFSETFROM:-0500
TZOFFSETTO:-0600
TZNAME:CST
DTSTART:20271107T070000
END:STANDARD
END:VTIMEZONE
BEGIN:VEVENT
DTSTART;VALUE=DATE:20260303
DTEND;VALUE=DATE:20260305
DTSTAMP:20260423T121450
CREATED:20260301T021714Z
LAST-MODIFIED:20260301T021817Z
UID:6720-1772506800-1772593199@www.sarahruthalexander.com
SUMMARY:Tiger D w/ guest Cade Bundrick
DESCRIPTION:
URL:https://www.sarahruthalexander.com/event/tiger-d-419
LOCATION:8–10PM on 92.9FM\, Denton\, TX
END:VEVENT
BEGIN:VEVENT
DTSTART;VALUE=DATE:20260307
DTEND;VALUE=DATE:20260309
DTSTAMP:20260423T121450
CREATED:20260215T194400Z
LAST-MODIFIED:20260215T194400Z
UID:6687-1772852400-1772938799@www.sarahruthalexander.com
SUMMARY:Joan of Bark Presents BIRD DRUGS\, ut mutem\, Polarimetry\, Gold Powder\, & Joan of Bark & Friends
DESCRIPTION:
URL:https://www.sarahruthalexander.com/event/joan-of-bark-presents-bird-drugs-ut-mutem-polarimetry-gold-powder-joan-of-bark-friends
LOCATION:Denton\, TX @ Rubber Gloves
END:VEVENT
BEGIN:VEVENT
DTSTART;VALUE=DATE:20260310
DTEND;VALUE=DATE:20260312
DTSTAMP:20260423T121450
CREATED:20260301T021721Z
LAST-MODIFIED:20260301T021721Z
UID:6721-1773111600-1773197999@www.sarahruthalexander.com
SUMMARY:Tiger D
DESCRIPTION:
URL:https://www.sarahruthalexander.com/event/tiger-d-420
LOCATION:8–10PM on 92.9FM\, Denton\, TX
END:VEVENT
BEGIN:VEVENT
DTSTART;VALUE=DATE:20260313
DTEND;VALUE=DATE:20260315
DTSTAMP:20260423T121450
CREATED:20260314T000928Z
LAST-MODIFIED:20260325T051052Z
UID:6763-1773370800-1773457199@www.sarahruthalexander.com
SUMMARY:Kallohonka Album Release w/ Teal Stripe\, Oil Spill\, & Surprise Meats
DESCRIPTION:
URL:https://www.sarahruthalexander.com/event/kallohonka-album-release-w-teal-stripe-oil-spill-surprise-meats
END:VEVENT
BEGIN:VEVENT
DTSTART;VALUE=DATE:20260315
DTEND;VALUE=DATE:20260317
DTSTAMP:20260423T121450
CREATED:20260301T021845Z
LAST-MODIFIED:20260314T001037Z
UID:6731-1773543600-1773629999@www.sarahruthalexander.com
SUMMARY:Covergrrrl
DESCRIPTION:
URL:https://www.sarahruthalexander.com/event/covergrrrl-13
LOCATION:8–10PM on 92.9FM\, Denton\, TX
END:VEVENT
BEGIN:VEVENT
DTSTART;VALUE=DATE:20260317
DTEND;VALUE=DATE:20260319
DTSTAMP:20260423T121450
CREATED:20260301T021731Z
LAST-MODIFIED:20260301T021731Z
UID:6722-1773716400-1773802799@www.sarahruthalexander.com
SUMMARY:Tiger D
DESCRIPTION:
URL:https://www.sarahruthalexander.com/event/tiger-d-421
LOCATION:8–10PM on 92.9FM\, Denton\, TX
END:VEVENT
BEGIN:VEVENT
DTSTART;VALUE=DATE:20260324
DTEND;VALUE=DATE:20260326
DTSTAMP:20260423T121450
CREATED:20260301T021740Z
LAST-MODIFIED:20260301T021740Z
UID:6723-1774321200-1774407599@www.sarahruthalexander.com
SUMMARY:Tiger D
DESCRIPTION:
URL:https://www.sarahruthalexander.com/event/tiger-d-422
LOCATION:8–10PM on 92.9FM\, Denton\, TX
END:VEVENT
BEGIN:VEVENT
DTSTART;VALUE=DATE:20260325
DTEND;VALUE=DATE:20260327
DTSTAMP:20260423T121450
CREATED:20260301T022740Z
LAST-MODIFIED:20260313T062451Z
UID:6733-1774407600-1774493999@www.sarahruthalexander.com
SUMMARY:Joan of Bark Presents... Solan Dorr\, Caade\, Poppy Xander\, & Sinevil+SarahRuth
DESCRIPTION:
URL:https://www.sarahruthalexander.com/event/joan-of-bark-presents-7
LOCATION:Denton\, TX @ Rubber Gloves
END:VEVENT
BEGIN:VEVENT
DTSTART;VALUE=DATE:20260328
DTEND;VALUE=DATE:20260330
DTSTAMP:20260423T121450
CREATED:20250801T193726Z
LAST-MODIFIED:20250905T214408Z
UID:5566-1774666800-1774753199@www.sarahruthalexander.com
SUMMARY:Sarah Ruth @ New Music Circle w/ Coppice
DESCRIPTION:
URL:https://www.sarahruthalexander.com/event/sarah-ruth-w-coppice
LOCATION:St. Louis\, MO @ The Luminary
END:VEVENT
BEGIN:VEVENT
DTSTART;VALUE=DATE:20260331
DTEND;VALUE=DATE:20260402
DTSTAMP:20260423T121450
CREATED:20260301T021748Z
LAST-MODIFIED:20260301T021748Z
UID:6724-1774926000-1775012399@www.sarahruthalexander.com
SUMMARY:Tiger D
DESCRIPTION:
URL:https://www.sarahruthalexander.com/event/tiger-d-423
LOCATION:8–10PM on 92.9FM\, Denton\, TX
END:VEVENT
END:VCALENDAR