BEGIN:VCALENDAR
VERSION:2.0
PRODID:-//Sarah Ruth Alexander - ECPv6.15.20//NONSGML v1.0//EN
CALSCALE:GREGORIAN
METHOD:PUBLISH
X-ORIGINAL-URL:https://www.sarahruthalexander.com
X-WR-CALDESC:Events for Sarah Ruth Alexander
REFRESH-INTERVAL;VALUE=DURATION:PT1H
X-Robots-Tag:noindex
X-PUBLISHED-TTL:PT1H
BEGIN:VTIMEZONE
TZID:America/Chicago
BEGIN:DAYLIGHT
TZOFFSETFROM:-0600
TZOFFSETTO:-0500
TZNAME:CDT
DTSTART:20250309T080000
END:DAYLIGHT
BEGIN:STANDARD
TZOFFSETFROM:-0500
TZOFFSETTO:-0600
TZNAME:CST
DTSTART:20251102T070000
END:STANDARD
BEGIN:DAYLIGHT
TZOFFSETFROM:-0600
TZOFFSETTO:-0500
TZNAME:CDT
DTSTART:20260308T080000
END:DAYLIGHT
BEGIN:STANDARD
TZOFFSETFROM:-0500
TZOFFSETTO:-0600
TZNAME:CST
DTSTART:20261101T070000
END:STANDARD
BEGIN:DAYLIGHT
TZOFFSETFROM:-0600
TZOFFSETTO:-0500
TZNAME:CDT
DTSTART:20270314T080000
END:DAYLIGHT
BEGIN:STANDARD
TZOFFSETFROM:-0500
TZOFFSETTO:-0600
TZNAME:CST
DTSTART:20271107T070000
END:STANDARD
END:VTIMEZONE
BEGIN:VEVENT
DTSTART;VALUE=DATE:20260202
DTEND;VALUE=DATE:20260204
DTSTAMP:20260423T135704
CREATED:20260112T080012Z
LAST-MODIFIED:20260112T080012Z
UID:6574-1770001200-1770087599@www.sarahruthalexander.com
SUMMARY:Joan of Bark Presents Okapi\, MichaelMeadows/KourtneyNewton/LukeRobinson\, Aaron Gonzalez\, & Sarah Ruth
DESCRIPTION:
URL:https://www.sarahruthalexander.com/event/joan-of-bark-presents-okapi-michaelmeadows-kourtneynewton-lukerobinson-aaron-gonzalez-sarah-ruth
LOCATION:Denton\, TX @ Rubber Gloves
END:VEVENT
BEGIN:VEVENT
DTSTART;VALUE=DATE:20260203
DTEND;VALUE=DATE:20260205
DTSTAMP:20260423T135704
CREATED:20260126T174102Z
LAST-MODIFIED:20260126T174102Z
UID:6621-1770087600-1770173999@www.sarahruthalexander.com
SUMMARY:Tiger D
DESCRIPTION:
URL:https://www.sarahruthalexander.com/event/tiger-d-415
LOCATION:8–10PM on 92.9FM\, Denton\, TX
END:VEVENT
BEGIN:VEVENT
DTSTART;VALUE=DATE:20260210
DTEND;VALUE=DATE:20260212
DTSTAMP:20260423T135704
CREATED:20260126T174116Z
LAST-MODIFIED:20260215T194213Z
UID:6622-1770692400-1770778799@www.sarahruthalexander.com
SUMMARY:Tiger D
DESCRIPTION:
URL:https://www.sarahruthalexander.com/event/tiger-d-416
LOCATION:8–10PM on 92.9FM\, Denton\, TX
END:VEVENT
BEGIN:VEVENT
DTSTART;VALUE=DATE:20260211
DTEND;VALUE=DATE:20260213
DTSTAMP:20260423T135704
CREATED:20260126T174244Z
LAST-MODIFIED:20260126T174244Z
UID:6629-1770778800-1770865199@www.sarahruthalexander.com
SUMMARY:Joan of Bark Presents SDK\, Bad Boob\, & RachelWeaver/KoryReeder
DESCRIPTION:
URL:https://www.sarahruthalexander.com/event/joan-of-bark-presents-sdk-bad-boob-rachelweaver-koryreeder
LOCATION:Denton\, TX @ Rubber Gloves
END:VEVENT
BEGIN:VEVENT
DTSTART;VALUE=DATE:20260217
DTEND;VALUE=DATE:20260219
DTSTAMP:20260423T135704
CREATED:20260126T174128Z
LAST-MODIFIED:20260215T194218Z
UID:6623-1771297200-1771383599@www.sarahruthalexander.com
SUMMARY:Tiger D w/ guest Odin Hill
DESCRIPTION:
URL:https://www.sarahruthalexander.com/event/tiger-d-417
LOCATION:8–10PM on 92.9FM\, Denton\, TX
END:VEVENT
BEGIN:VEVENT
DTSTART;VALUE=DATE:20260223
DTEND;VALUE=DATE:20260225
DTSTAMP:20260423T135704
CREATED:20260112T080238Z
LAST-MODIFIED:20260215T194438Z
UID:6578-1771815600-1771901999@www.sarahruthalexander.com
SUMMARY:Sarah Ruth @ Music Now
DESCRIPTION:
URL:https://www.sarahruthalexander.com/event/sarah-ruth-music-now
LOCATION:Denton\, TX @ UNT College of Music
END:VEVENT
BEGIN:VEVENT
DTSTART;VALUE=DATE:20260224
DTEND;VALUE=DATE:20260226
DTSTAMP:20260423T135704
CREATED:20260126T174140Z
LAST-MODIFIED:20260215T194221Z
UID:6624-1771902000-1771988399@www.sarahruthalexander.com
SUMMARY:Tiger D w/ guest Aaron Gonzalez
DESCRIPTION:
URL:https://www.sarahruthalexander.com/event/tiger-d-418
LOCATION:8–10PM on 92.9FM\, Denton\, TX
END:VEVENT
END:VCALENDAR