BEGIN:VCALENDAR
VERSION:2.0
PRODID:-//Sarah Ruth Alexander - ECPv6.15.20//NONSGML v1.0//EN
CALSCALE:GREGORIAN
METHOD:PUBLISH
X-WR-CALNAME:Sarah Ruth Alexander
X-ORIGINAL-URL:https://www.sarahruthalexander.com
X-WR-CALDESC:Events for Sarah Ruth Alexander
REFRESH-INTERVAL;VALUE=DURATION:PT1H
X-Robots-Tag:noindex
X-PUBLISHED-TTL:PT1H
BEGIN:VTIMEZONE
TZID:America/Chicago
BEGIN:DAYLIGHT
TZOFFSETFROM:-0600
TZOFFSETTO:-0500
TZNAME:CDT
DTSTART:20250309T080000
END:DAYLIGHT
BEGIN:STANDARD
TZOFFSETFROM:-0500
TZOFFSETTO:-0600
TZNAME:CST
DTSTART:20251102T070000
END:STANDARD
BEGIN:DAYLIGHT
TZOFFSETFROM:-0600
TZOFFSETTO:-0500
TZNAME:CDT
DTSTART:20260308T080000
END:DAYLIGHT
BEGIN:STANDARD
TZOFFSETFROM:-0500
TZOFFSETTO:-0600
TZNAME:CST
DTSTART:20261101T070000
END:STANDARD
BEGIN:DAYLIGHT
TZOFFSETFROM:-0600
TZOFFSETTO:-0500
TZNAME:CDT
DTSTART:20270314T080000
END:DAYLIGHT
BEGIN:STANDARD
TZOFFSETFROM:-0500
TZOFFSETTO:-0600
TZNAME:CST
DTSTART:20271107T070000
END:STANDARD
END:VTIMEZONE
BEGIN:VEVENT
DTSTART;VALUE=DATE:20260106
DTEND;VALUE=DATE:20260108
DTSTAMP:20260423T153437
CREATED:20260101T224754Z
LAST-MODIFIED:20260112T080109Z
UID:6541-1767668400-1767754799@www.sarahruthalexander.com
SUMMARY:Tiger D w/ guest host Stephen Lucas
DESCRIPTION:
URL:https://www.sarahruthalexander.com/event/tiger-d-411
LOCATION:8–10PM on 92.9FM\, Denton\, TX
END:VEVENT
BEGIN:VEVENT
DTSTART;VALUE=DATE:20260113
DTEND;VALUE=DATE:20260115
DTSTAMP:20260423T153437
CREATED:20260101T224801Z
LAST-MODIFIED:20260101T224801Z
UID:6542-1768273200-1768359599@www.sarahruthalexander.com
SUMMARY:Tiger D
DESCRIPTION:
URL:https://www.sarahruthalexander.com/event/tiger-d-412
LOCATION:8–10PM on 92.9FM\, Denton\, TX
END:VEVENT
BEGIN:VEVENT
DTSTART;VALUE=DATE:20260118
DTEND;VALUE=DATE:20260120
DTSTAMP:20260423T153437
CREATED:20260101T224837Z
LAST-MODIFIED:20260101T224837Z
UID:6549-1768705200-1768791599@www.sarahruthalexander.com
SUMMARY:Covergrrrl
DESCRIPTION:
URL:https://www.sarahruthalexander.com/event/covergrrrl-12
LOCATION:8–10PM on 92.9FM\, Denton\, TX
END:VEVENT
BEGIN:VEVENT
DTSTART;VALUE=DATE:20260120
DTEND;VALUE=DATE:20260122
DTSTAMP:20260423T153437
CREATED:20260101T224809Z
LAST-MODIFIED:20260101T224809Z
UID:6543-1768878000-1768964399@www.sarahruthalexander.com
SUMMARY:Tiger D
DESCRIPTION:
URL:https://www.sarahruthalexander.com/event/tiger-d-413
LOCATION:8–10PM on 92.9FM\, Denton\, TX
END:VEVENT
BEGIN:VEVENT
DTSTART;VALUE=DATE:20260121
DTEND;VALUE=DATE:20260123
DTSTAMP:20260423T153437
CREATED:20260101T224719Z
LAST-MODIFIED:20260112T080032Z
UID:6539-1768964400-1769050799@www.sarahruthalexander.com
SUMMARY:Joan of Bark Presents Improv Lotto
DESCRIPTION:
URL:https://www.sarahruthalexander.com/event/joan-of-bark-presents-improv-lotto-3
LOCATION:Denton\, TX @ Rubber Gloves
END:VEVENT
BEGIN:VEVENT
DTSTART;VALUE=DATE:20260127
DTEND;VALUE=DATE:20260129
DTSTAMP:20260423T153437
CREATED:20260101T224818Z
LAST-MODIFIED:20260126T174030Z
UID:6544-1769482800-1769569199@www.sarahruthalexander.com
SUMMARY:Tiger D
DESCRIPTION:
URL:https://www.sarahruthalexander.com/event/tiger-d-414
LOCATION:8–10PM on 92.9FM\, Denton\, TX
END:VEVENT
END:VCALENDAR