BEGIN:VCALENDAR
VERSION:2.0
PRODID:-//Sarah Ruth Alexander - ECPv6.15.20//NONSGML v1.0//EN
CALSCALE:GREGORIAN
METHOD:PUBLISH
X-WR-CALNAME:Sarah Ruth Alexander
X-ORIGINAL-URL:https://www.sarahruthalexander.com
X-WR-CALDESC:Events for Sarah Ruth Alexander
REFRESH-INTERVAL;VALUE=DURATION:PT1H
X-Robots-Tag:noindex
X-PUBLISHED-TTL:PT1H
BEGIN:VTIMEZONE
TZID:America/Chicago
BEGIN:DAYLIGHT
TZOFFSETFROM:-0600
TZOFFSETTO:-0500
TZNAME:CDT
DTSTART:20240310T080000
END:DAYLIGHT
BEGIN:STANDARD
TZOFFSETFROM:-0500
TZOFFSETTO:-0600
TZNAME:CST
DTSTART:20241103T070000
END:STANDARD
BEGIN:DAYLIGHT
TZOFFSETFROM:-0600
TZOFFSETTO:-0500
TZNAME:CDT
DTSTART:20250309T080000
END:DAYLIGHT
BEGIN:STANDARD
TZOFFSETFROM:-0500
TZOFFSETTO:-0600
TZNAME:CST
DTSTART:20251102T070000
END:STANDARD
BEGIN:DAYLIGHT
TZOFFSETFROM:-0600
TZOFFSETTO:-0500
TZNAME:CDT
DTSTART:20260308T080000
END:DAYLIGHT
BEGIN:STANDARD
TZOFFSETFROM:-0500
TZOFFSETTO:-0600
TZNAME:CST
DTSTART:20261101T070000
END:STANDARD
END:VTIMEZONE
BEGIN:VEVENT
DTSTART;VALUE=DATE:20250401
DTEND;VALUE=DATE:20250403
DTSTAMP:20260425T225437
CREATED:20250319T185510Z
LAST-MODIFIED:20250319T185510Z
UID:4491-1743476400-1743562799@www.sarahruthalexander.com
SUMMARY:Tiger D
DESCRIPTION:
URL:https://www.sarahruthalexander.com/event/tiger-d-373
LOCATION:8–10PM on 92.9FM\, Denton\, TX
END:VEVENT
BEGIN:VEVENT
DTSTART;VALUE=DATE:20250408
DTEND;VALUE=DATE:20250410
DTSTAMP:20260425T225437
CREATED:20250319T185523Z
LAST-MODIFIED:20250319T185523Z
UID:4492-1744081200-1744167599@www.sarahruthalexander.com
SUMMARY:Tiger D
DESCRIPTION:
URL:https://www.sarahruthalexander.com/event/tiger-d-374
LOCATION:8–10PM on 92.9FM\, Denton\, TX
END:VEVENT
BEGIN:VEVENT
DTSTART;VALUE=DATE:20250413
DTEND;VALUE=DATE:20250415
DTSTAMP:20260425T225437
CREATED:20250322T231236Z
LAST-MODIFIED:20250322T231236Z
UID:4520-1744513200-1744599599@www.sarahruthalexander.com
SUMMARY:Sarah Ruth w/ Chris Welch\, Edgar Derby\, & Clint Niosi
DESCRIPTION:
URL:https://www.sarahruthalexander.com/event/sarah-ruth-w-chris-welch-edgar-derby-clint-niosi
LOCATION:Denton\, TX @ Rubber Gloves
END:VEVENT
BEGIN:VEVENT
DTSTART;VALUE=DATE:20250415
DTEND;VALUE=DATE:20250417
DTSTAMP:20260425T225437
CREATED:20250319T185534Z
LAST-MODIFIED:20250330T185221Z
UID:4493-1744686000-1744772399@www.sarahruthalexander.com
SUMMARY:Tiger D w/ guest Poppy Xander
DESCRIPTION:
URL:https://www.sarahruthalexander.com/event/tiger-d-375
LOCATION:8–10PM on 92.9FM\, Denton\, TX
END:VEVENT
BEGIN:VEVENT
DTSTART;VALUE=DATE:20250419
DTEND;VALUE=DATE:20250421
DTSTAMP:20260425T225437
CREATED:20250416T071701Z
LAST-MODIFIED:20250416T071701Z
UID:4622-1745031600-1745117999@www.sarahruthalexander.com
SUMMARY:Vespers
DESCRIPTION:
URL:https://www.sarahruthalexander.com/event/vespers
LOCATION:Dallas\, TX @ New Media Contemporary
END:VEVENT
BEGIN:VEVENT
DTSTART;VALUE=DATE:20250420
DTEND;VALUE=DATE:20250422
DTSTAMP:20260425T225437
CREATED:20250319T185430Z
LAST-MODIFIED:20250319T185430Z
UID:4489-1745118000-1745204399@www.sarahruthalexander.com
SUMMARY:Covergrrrl
DESCRIPTION:
URL:https://www.sarahruthalexander.com/event/covergrrrl-3
LOCATION:8–10PM on 92.9FM\, Denton\, TX
END:VEVENT
BEGIN:VEVENT
DTSTART;VALUE=DATE:20250422
DTEND;VALUE=DATE:20250424
DTSTAMP:20260425T225437
CREATED:20250319T185544Z
LAST-MODIFIED:20250319T185544Z
UID:4494-1745290800-1745377199@www.sarahruthalexander.com
SUMMARY:Tiger D
DESCRIPTION:
URL:https://www.sarahruthalexander.com/event/tiger-d-376
LOCATION:8–10PM on 92.9FM\, Denton\, TX
END:VEVENT
BEGIN:VEVENT
DTSTART;VALUE=DATE:20250427
DTEND;VALUE=DATE:20250429
DTSTAMP:20260425T225437
CREATED:20250319T190213Z
LAST-MODIFIED:20260407T032150Z
UID:4507-1745722800-1745809199@www.sarahruthalexander.com
SUMMARY:aqueous: Sarah Ruth & Rosemary Candelario @ Boston Butoh Festival
DESCRIPTION:
URL:https://www.sarahruthalexander.com/event/aqueous-sarah-ruth-rosemary-candelario-boston-butoh-festival
LOCATION:Boston\, MA @ BCA Plaza Theater
END:VEVENT
BEGIN:VEVENT
DTSTART;VALUE=DATE:20250429
DTEND;VALUE=DATE:20250501
DTSTAMP:20260425T225437
CREATED:20250319T185604Z
LAST-MODIFIED:20250319T185604Z
UID:4495-1745895600-1745981999@www.sarahruthalexander.com
SUMMARY:Tiger D
DESCRIPTION:
URL:https://www.sarahruthalexander.com/event/tiger-d-377
LOCATION:8–10PM on 92.9FM\, Denton\, TX
END:VEVENT
BEGIN:VEVENT
DTSTART;VALUE=DATE:20250430
DTEND;VALUE=DATE:20250502
DTSTAMP:20260425T225437
CREATED:20250319T185805Z
LAST-MODIFIED:20250617T051918Z
UID:4504-1745982000-1746068399@www.sarahruthalexander.com
SUMMARY:Joan of Bark Presents Art Jam\, PaulSlavens/SarahJay\, & Starfruit
DESCRIPTION:
URL:https://www.sarahruthalexander.com/event/joan-of-bark-presents-4
LOCATION:Denton\, TX @ Rubber Gloves
END:VEVENT
END:VCALENDAR