BEGIN:VCALENDAR
VERSION:2.0
PRODID:-//Sarah Ruth Alexander - ECPv6.15.20//NONSGML v1.0//EN
CALSCALE:GREGORIAN
METHOD:PUBLISH
X-WR-CALNAME:Sarah Ruth Alexander
X-ORIGINAL-URL:https://www.sarahruthalexander.com
X-WR-CALDESC:Events for Sarah Ruth Alexander
REFRESH-INTERVAL;VALUE=DURATION:PT1H
X-Robots-Tag:noindex
X-PUBLISHED-TTL:PT1H
BEGIN:VTIMEZONE
TZID:America/Chicago
BEGIN:DAYLIGHT
TZOFFSETFROM:-0600
TZOFFSETTO:-0500
TZNAME:CDT
DTSTART:20240310T080000
END:DAYLIGHT
BEGIN:STANDARD
TZOFFSETFROM:-0500
TZOFFSETTO:-0600
TZNAME:CST
DTSTART:20241103T070000
END:STANDARD
BEGIN:DAYLIGHT
TZOFFSETFROM:-0600
TZOFFSETTO:-0500
TZNAME:CDT
DTSTART:20250309T080000
END:DAYLIGHT
BEGIN:STANDARD
TZOFFSETFROM:-0500
TZOFFSETTO:-0600
TZNAME:CST
DTSTART:20251102T070000
END:STANDARD
BEGIN:DAYLIGHT
TZOFFSETFROM:-0600
TZOFFSETTO:-0500
TZNAME:CDT
DTSTART:20260308T080000
END:DAYLIGHT
BEGIN:STANDARD
TZOFFSETFROM:-0500
TZOFFSETTO:-0600
TZNAME:CST
DTSTART:20261101T070000
END:STANDARD
END:VTIMEZONE
BEGIN:VEVENT
DTSTART;VALUE=DATE:20250527
DTEND;VALUE=DATE:20250529
DTSTAMP:20260424T084806
CREATED:20250509T062416Z
LAST-MODIFIED:20250509T062416Z
UID:4774-1748314800-1748401199@www.sarahruthalexander.com
SUMMARY:Tiger D
DESCRIPTION:
URL:https://www.sarahruthalexander.com/event/tiger-d-381
LOCATION:8–10PM on 92.9FM\, Denton\, TX
END:VEVENT
BEGIN:VEVENT
DTSTART;VALUE=DATE:20250520
DTEND;VALUE=DATE:20250522
DTSTAMP:20260424T084806
CREATED:20250509T062408Z
LAST-MODIFIED:20250509T062408Z
UID:4773-1747710000-1747796399@www.sarahruthalexander.com
SUMMARY:Tiger D
DESCRIPTION:
URL:https://www.sarahruthalexander.com/event/tiger-d-380
LOCATION:8–10PM on 92.9FM\, Denton\, TX
END:VEVENT
BEGIN:VEVENT
DTSTART;VALUE=DATE:20250518
DTEND;VALUE=DATE:20250520
DTSTAMP:20260424T084806
CREATED:20250509T062509Z
LAST-MODIFIED:20250509T062509Z
UID:4780-1747537200-1747623599@www.sarahruthalexander.com
SUMMARY:Covergrrrl
DESCRIPTION:
URL:https://www.sarahruthalexander.com/event/covergrrrl-4
LOCATION:8–10PM on 92.9FM\, Denton\, TX
END:VEVENT
BEGIN:VEVENT
DTSTART;VALUE=DATE:20250513
DTEND;VALUE=DATE:20250515
DTSTAMP:20260424T084806
CREATED:20250509T062356Z
LAST-MODIFIED:20250509T062423Z
UID:4772-1747105200-1747191599@www.sarahruthalexander.com
SUMMARY:Tiger D w/ guest host Stephen Lucas
DESCRIPTION:
URL:https://www.sarahruthalexander.com/event/tiger-d-379
LOCATION:8–10PM on 92.9FM\, Denton\, TX
END:VEVENT
BEGIN:VEVENT
DTSTART;VALUE=DATE:20250506
DTEND;VALUE=DATE:20250508
DTSTAMP:20260424T084806
CREATED:20250509T062347Z
LAST-MODIFIED:20250509T062347Z
UID:4771-1746500400-1746586799@www.sarahruthalexander.com
SUMMARY:Tiger D
DESCRIPTION:
URL:https://www.sarahruthalexander.com/event/tiger-d-378
LOCATION:8–10PM on 92.9FM\, Denton\, TX
END:VEVENT
BEGIN:VEVENT
DTSTART;VALUE=DATE:20250504
DTEND;VALUE=DATE:20250506
DTSTAMP:20260424T084806
CREATED:20250416T071819Z
LAST-MODIFIED:20250617T051909Z
UID:4624-1746327600-1746413999@www.sarahruthalexander.com
SUMMARY:Joan of Bark Presents Sarah Ruth\, Tazer Void\, Ruptured Implant\, & Roaring Mass
DESCRIPTION:
URL:https://www.sarahruthalexander.com/event/joan-of-bark-presents
LOCATION:Denton\, TX @ Rubber Gloves
END:VEVENT
BEGIN:VEVENT
DTSTART;VALUE=DATE:20250430
DTEND;VALUE=DATE:20250502
DTSTAMP:20260424T084806
CREATED:20250319T185805Z
LAST-MODIFIED:20250617T051918Z
UID:4504-1745982000-1746068399@www.sarahruthalexander.com
SUMMARY:Joan of Bark Presents Art Jam\, PaulSlavens/SarahJay\, & Starfruit
DESCRIPTION:
URL:https://www.sarahruthalexander.com/event/joan-of-bark-presents-4
LOCATION:Denton\, TX @ Rubber Gloves
END:VEVENT
BEGIN:VEVENT
DTSTART;VALUE=DATE:20250429
DTEND;VALUE=DATE:20250501
DTSTAMP:20260424T084806
CREATED:20250319T185604Z
LAST-MODIFIED:20250319T185604Z
UID:4495-1745895600-1745981999@www.sarahruthalexander.com
SUMMARY:Tiger D
DESCRIPTION:
URL:https://www.sarahruthalexander.com/event/tiger-d-377
LOCATION:8–10PM on 92.9FM\, Denton\, TX
END:VEVENT
BEGIN:VEVENT
DTSTART;VALUE=DATE:20250427
DTEND;VALUE=DATE:20250429
DTSTAMP:20260424T084806
CREATED:20250319T190213Z
LAST-MODIFIED:20260407T032150Z
UID:4507-1745722800-1745809199@www.sarahruthalexander.com
SUMMARY:aqueous: Sarah Ruth & Rosemary Candelario @ Boston Butoh Festival
DESCRIPTION:
URL:https://www.sarahruthalexander.com/event/aqueous-sarah-ruth-rosemary-candelario-boston-butoh-festival
LOCATION:Boston\, MA @ BCA Plaza Theater
END:VEVENT
BEGIN:VEVENT
DTSTART;VALUE=DATE:20250422
DTEND;VALUE=DATE:20250424
DTSTAMP:20260424T084806
CREATED:20250319T185544Z
LAST-MODIFIED:20250319T185544Z
UID:4494-1745290800-1745377199@www.sarahruthalexander.com
SUMMARY:Tiger D
DESCRIPTION:
URL:https://www.sarahruthalexander.com/event/tiger-d-376
LOCATION:8–10PM on 92.9FM\, Denton\, TX
END:VEVENT
BEGIN:VEVENT
DTSTART;VALUE=DATE:20250420
DTEND;VALUE=DATE:20250422
DTSTAMP:20260424T084806
CREATED:20250319T185430Z
LAST-MODIFIED:20250319T185430Z
UID:4489-1745118000-1745204399@www.sarahruthalexander.com
SUMMARY:Covergrrrl
DESCRIPTION:
URL:https://www.sarahruthalexander.com/event/covergrrrl-3
LOCATION:8–10PM on 92.9FM\, Denton\, TX
END:VEVENT
BEGIN:VEVENT
DTSTART;VALUE=DATE:20250419
DTEND;VALUE=DATE:20250421
DTSTAMP:20260424T084806
CREATED:20250416T071701Z
LAST-MODIFIED:20250416T071701Z
UID:4622-1745031600-1745117999@www.sarahruthalexander.com
SUMMARY:Vespers
DESCRIPTION:
URL:https://www.sarahruthalexander.com/event/vespers
LOCATION:Dallas\, TX @ New Media Contemporary
END:VEVENT
BEGIN:VEVENT
DTSTART;VALUE=DATE:20250415
DTEND;VALUE=DATE:20250417
DTSTAMP:20260424T084806
CREATED:20250319T185534Z
LAST-MODIFIED:20250330T185221Z
UID:4493-1744686000-1744772399@www.sarahruthalexander.com
SUMMARY:Tiger D w/ guest Poppy Xander
DESCRIPTION:
URL:https://www.sarahruthalexander.com/event/tiger-d-375
LOCATION:8–10PM on 92.9FM\, Denton\, TX
END:VEVENT
BEGIN:VEVENT
DTSTART;VALUE=DATE:20250413
DTEND;VALUE=DATE:20250415
DTSTAMP:20260424T084806
CREATED:20250322T231236Z
LAST-MODIFIED:20250322T231236Z
UID:4520-1744513200-1744599599@www.sarahruthalexander.com
SUMMARY:Sarah Ruth w/ Chris Welch\, Edgar Derby\, & Clint Niosi
DESCRIPTION:
URL:https://www.sarahruthalexander.com/event/sarah-ruth-w-chris-welch-edgar-derby-clint-niosi
LOCATION:Denton\, TX @ Rubber Gloves
END:VEVENT
BEGIN:VEVENT
DTSTART;VALUE=DATE:20250408
DTEND;VALUE=DATE:20250410
DTSTAMP:20260424T084806
CREATED:20250319T185523Z
LAST-MODIFIED:20250319T185523Z
UID:4492-1744081200-1744167599@www.sarahruthalexander.com
SUMMARY:Tiger D
DESCRIPTION:
URL:https://www.sarahruthalexander.com/event/tiger-d-374
LOCATION:8–10PM on 92.9FM\, Denton\, TX
END:VEVENT
BEGIN:VEVENT
DTSTART;VALUE=DATE:20250401
DTEND;VALUE=DATE:20250403
DTSTAMP:20260424T084806
CREATED:20250319T185510Z
LAST-MODIFIED:20250319T185510Z
UID:4491-1743476400-1743562799@www.sarahruthalexander.com
SUMMARY:Tiger D
DESCRIPTION:
URL:https://www.sarahruthalexander.com/event/tiger-d-373
LOCATION:8–10PM on 92.9FM\, Denton\, TX
END:VEVENT
BEGIN:VEVENT
DTSTART;VALUE=DATE:20250325
DTEND;VALUE=DATE:20250327
DTSTAMP:20260424T084806
CREATED:20250302T223233Z
LAST-MODIFIED:20250302T223233Z
UID:4410-1742871600-1742957999@www.sarahruthalexander.com
SUMMARY:Tiger D
DESCRIPTION:
URL:https://www.sarahruthalexander.com/event/tiger-d-372
LOCATION:8–10PM on 92.9FM\, Denton\, TX
END:VEVENT
BEGIN:VEVENT
DTSTART;VALUE=DATE:20250318
DTEND;VALUE=DATE:20250320
DTSTAMP:20260424T084806
CREATED:20250302T223225Z
LAST-MODIFIED:20250302T223225Z
UID:4409-1742266800-1742353199@www.sarahruthalexander.com
SUMMARY:Tiger D
DESCRIPTION:
URL:https://www.sarahruthalexander.com/event/tiger-d-371
LOCATION:8–10PM on 92.9FM\, Denton\, TX
END:VEVENT
BEGIN:VEVENT
DTSTART;VALUE=DATE:20250316
DTEND;VALUE=DATE:20250318
DTSTAMP:20260424T084806
CREATED:20250319T185720Z
LAST-MODIFIED:20250319T185720Z
UID:4501-1742094000-1742180399@www.sarahruthalexander.com
SUMMARY:Report by Raven Chacon @ Intertribal Noise Symposium 2025
DESCRIPTION:
URL:https://www.sarahruthalexander.com/event/report-by-raven-chacon-intertribal-noise-symposium-2025
LOCATION:Marfa\, TX @ Chinati Foundation
END:VEVENT
BEGIN:VEVENT
DTSTART;VALUE=DATE:20250316
DTEND;VALUE=DATE:20250318
DTSTAMP:20260424T084806
CREATED:20250302T223307Z
LAST-MODIFIED:20250302T223307Z
UID:4415-1742094000-1742180399@www.sarahruthalexander.com
SUMMARY:Covergrrrl
DESCRIPTION:
URL:https://www.sarahruthalexander.com/event/covergrrrl-2
LOCATION:8–10PM on 92.9FM\, Denton\, TX
END:VEVENT
BEGIN:VEVENT
DTSTART;VALUE=DATE:20250312
DTEND;VALUE=DATE:20250314
DTSTAMP:20260424T084806
CREATED:20250302T223507Z
LAST-MODIFIED:20250617T051927Z
UID:4419-1741748400-1741834799@www.sarahruthalexander.com
SUMMARY:Joan of Bark Presents GraeGonzalez\, KristinaSmith/WillFrenkel\, Angel\, & Cereboso
DESCRIPTION:
URL:https://www.sarahruthalexander.com/event/joan-of-bark-presents-3
LOCATION:Denton\, TX @ Rubber Gloves
END:VEVENT
BEGIN:VEVENT
DTSTART;VALUE=DATE:20250311
DTEND;VALUE=DATE:20250313
DTSTAMP:20260424T084806
CREATED:20250302T223216Z
LAST-MODIFIED:20250302T223216Z
UID:4408-1741662000-1741748399@www.sarahruthalexander.com
SUMMARY:Tiger D
DESCRIPTION:
URL:https://www.sarahruthalexander.com/event/tiger-d-370
LOCATION:8–10PM on 92.9FM\, Denton\, TX
END:VEVENT
BEGIN:VEVENT
DTSTART;VALUE=DATE:20250304
DTEND;VALUE=DATE:20250306
DTSTAMP:20260424T084806
CREATED:20250302T223205Z
LAST-MODIFIED:20250302T223205Z
UID:4407-1741057200-1741143599@www.sarahruthalexander.com
SUMMARY:Tiger D
DESCRIPTION:
URL:https://www.sarahruthalexander.com/event/tiger-d-369
LOCATION:8–10PM on 92.9FM\, Denton\, TX
END:VEVENT
BEGIN:VEVENT
DTSTART;VALUE=DATE:20250228
DTEND;VALUE=DATE:20250302
DTSTAMP:20260424T084806
CREATED:20250122T202238Z
LAST-MODIFIED:20250319T190303Z
UID:4239-1740711600-1740797999@www.sarahruthalexander.com
SUMMARY:Sarah Ruth @ She-Rock w/ Helium Queens\, Lorelei K\, Calling Shot\, & Claws Out Comedy
DESCRIPTION:
URL:https://www.sarahruthalexander.com/event/sarah-ruth-she-rock-w-helium-queens-lorelei-k-calling-shot-claws-out-comedy
LOCATION:Denton\, TX @ Rubber Gloves
END:VEVENT
BEGIN:VEVENT
DTSTART;VALUE=DATE:20250225
DTEND;VALUE=DATE:20250227
DTSTAMP:20260424T084806
CREATED:20250205T015242Z
LAST-MODIFIED:20250205T015242Z
UID:4295-1740452400-1740538799@www.sarahruthalexander.com
SUMMARY:Tiger D
DESCRIPTION:
URL:https://www.sarahruthalexander.com/event/tiger-d-368
LOCATION:8–10PM on 92.9FM\, Denton\, TX
END:VEVENT
BEGIN:VEVENT
DTSTART;VALUE=DATE:20250224
DTEND;VALUE=DATE:20250226
DTSTAMP:20260424T084806
CREATED:20250122T144600Z
LAST-MODIFIED:20250122T144600Z
UID:4236-1740366000-1740452399@www.sarahruthalexander.com
SUMMARY:aqueous: Sarah Ruth & Rosemary Candelario
DESCRIPTION:
URL:https://www.sarahruthalexander.com/event/aqueous-sarah-ruth-rosemary-candelario-3
LOCATION:Austin\, TX @ UT Austin
END:VEVENT
BEGIN:VEVENT
DTSTART;VALUE=DATE:20250219
DTEND;VALUE=DATE:20250221
DTSTAMP:20260424T084806
CREATED:20250302T223410Z
LAST-MODIFIED:20250617T051939Z
UID:4417-1739934000-1740020399@www.sarahruthalexander.com
SUMMARY:Joan of Bark Presents El Mantis\, Ogonosu\, & ChelseyDanielle/EllieAlonzo/StefanGonzalez
DESCRIPTION:
URL:https://www.sarahruthalexander.com/event/joan-of-bark-presents-2
LOCATION:Denton\, TX @ Rubber Gloves
END:VEVENT
BEGIN:VEVENT
DTSTART;VALUE=DATE:20250218
DTEND;VALUE=DATE:20250220
DTSTAMP:20260424T084806
CREATED:20250205T015229Z
LAST-MODIFIED:20250205T015229Z
UID:4294-1739847600-1739933999@www.sarahruthalexander.com
SUMMARY:Tiger D
DESCRIPTION:
URL:https://www.sarahruthalexander.com/event/tiger-d-367
LOCATION:8–10PM on 92.9FM\, Denton\, TX
END:VEVENT
BEGIN:VEVENT
DTSTART;VALUE=DATE:20250216
DTEND;VALUE=DATE:20250218
DTSTAMP:20260424T084806
CREATED:20250122T144507Z
LAST-MODIFIED:20250205T015339Z
UID:4234-1739674800-1739761199@www.sarahruthalexander.com
SUMMARY:Covergrrrl
DESCRIPTION:
URL:https://www.sarahruthalexander.com/event/covergrrrl
LOCATION:8–10PM on 92.9FM\, Denton\, TX
END:VEVENT
BEGIN:VEVENT
DTSTART;VALUE=DATE:20250211
DTEND;VALUE=DATE:20250213
DTSTAMP:20260424T084806
CREATED:20250205T015218Z
LAST-MODIFIED:20250205T015218Z
UID:4293-1739242800-1739329199@www.sarahruthalexander.com
SUMMARY:Tiger D
DESCRIPTION:
URL:https://www.sarahruthalexander.com/event/tiger-d-366
LOCATION:8–10PM on 92.9FM\, Denton\, TX
END:VEVENT
END:VCALENDAR