BEGIN:VCALENDAR
VERSION:2.0
PRODID:-//Sarah Ruth Alexander - ECPv6.15.20//NONSGML v1.0//EN
CALSCALE:GREGORIAN
METHOD:PUBLISH
X-WR-CALNAME:Sarah Ruth Alexander
X-ORIGINAL-URL:https://www.sarahruthalexander.com
X-WR-CALDESC:Events for Sarah Ruth Alexander
REFRESH-INTERVAL;VALUE=DURATION:PT1H
X-Robots-Tag:noindex
X-PUBLISHED-TTL:PT1H
BEGIN:VTIMEZONE
TZID:America/Chicago
BEGIN:DAYLIGHT
TZOFFSETFROM:-0600
TZOFFSETTO:-0500
TZNAME:CDT
DTSTART:20240310T080000
END:DAYLIGHT
BEGIN:STANDARD
TZOFFSETFROM:-0500
TZOFFSETTO:-0600
TZNAME:CST
DTSTART:20241103T070000
END:STANDARD
BEGIN:DAYLIGHT
TZOFFSETFROM:-0600
TZOFFSETTO:-0500
TZNAME:CDT
DTSTART:20250309T080000
END:DAYLIGHT
BEGIN:STANDARD
TZOFFSETFROM:-0500
TZOFFSETTO:-0600
TZNAME:CST
DTSTART:20251102T070000
END:STANDARD
BEGIN:DAYLIGHT
TZOFFSETFROM:-0600
TZOFFSETTO:-0500
TZNAME:CDT
DTSTART:20260308T080000
END:DAYLIGHT
BEGIN:STANDARD
TZOFFSETFROM:-0500
TZOFFSETTO:-0600
TZNAME:CST
DTSTART:20261101T070000
END:STANDARD
END:VTIMEZONE
BEGIN:VEVENT
DTSTART;VALUE=DATE:20251005
DTEND;VALUE=DATE:20251007
DTSTAMP:20260424T020229
CREATED:20250929T040910Z
LAST-MODIFIED:20250929T040910Z
UID:6153-1759633200-1759719599@www.sarahruthalexander.com
SUMMARY:SarahRuth/TomCarter/NicoleSebesta/AgaZet w/ JohnAlanKennedy/JeremyNuncio/IvetteRoman-Roberto
DESCRIPTION:
URL:https://www.sarahruthalexander.com/event/sarahruth-tomcarter-nicolesebesta-agazet-w-johnalankennedy-jeremynuncio-ivetteroman-roberto
LOCATION:Houston\, TX @ ARChouse
END:VEVENT
BEGIN:VEVENT
DTSTART;VALUE=DATE:20250930
DTEND;VALUE=DATE:20251002
DTSTAMP:20260424T020229
CREATED:20250828T050307Z
LAST-MODIFIED:20250828T050307Z
UID:5881-1759201200-1759287599@www.sarahruthalexander.com
SUMMARY:Tiger D
DESCRIPTION:
URL:https://www.sarahruthalexander.com/event/tiger-d-399
LOCATION:8–10PM on 92.9FM\, Denton\, TX
END:VEVENT
BEGIN:VEVENT
DTSTART;VALUE=DATE:20250926
DTEND;VALUE=DATE:20250928
DTSTAMP:20260424T020229
CREATED:20250905T214518Z
LAST-MODIFIED:20250905T214540Z
UID:5982-1758855600-1758941999@www.sarahruthalexander.com
SUMMARY:Sarah Ruth @ COTFG: New Media Art & Sound Summit 2025
DESCRIPTION:
URL:https://www.sarahruthalexander.com/event/sarah-ruth-nmass-fest
LOCATION:Austin\, TX @ Museum of Human Achievement
END:VEVENT
BEGIN:VEVENT
DTSTART;VALUE=DATE:20250923
DTEND;VALUE=DATE:20250925
DTSTAMP:20260424T020229
CREATED:20250828T050258Z
LAST-MODIFIED:20250828T050258Z
UID:5880-1758596400-1758682799@www.sarahruthalexander.com
SUMMARY:Tiger D
DESCRIPTION:
URL:https://www.sarahruthalexander.com/event/tiger-d-398
LOCATION:8–10PM on 92.9FM\, Denton\, TX
END:VEVENT
BEGIN:VEVENT
DTSTART;VALUE=DATE:20250921
DTEND;VALUE=DATE:20250923
DTSTAMP:20260424T020229
CREATED:20250828T050202Z
LAST-MODIFIED:20250828T050202Z
UID:5876-1758423600-1758509999@www.sarahruthalexander.com
SUMMARY:Covergrrrl
DESCRIPTION:
URL:https://www.sarahruthalexander.com/event/covergrrrl-8
LOCATION:8–10PM on 92.9FM\, Denton\, TX
END:VEVENT
BEGIN:VEVENT
DTSTART;VALUE=DATE:20250917
DTEND;VALUE=DATE:20250919
DTSTAMP:20260424T020229
CREATED:20250905T214352Z
LAST-MODIFIED:20250905T214352Z
UID:5979-1758078000-1758164399@www.sarahruthalexander.com
SUMMARY:Joan of Bark Presents Improv Lotto
DESCRIPTION:
URL:https://www.sarahruthalexander.com/event/joan-of-bark-presents-improv-lotto-2
LOCATION:Denton\, TX @ Rubber Gloves
END:VEVENT
BEGIN:VEVENT
DTSTART;VALUE=DATE:20250916
DTEND;VALUE=DATE:20250918
DTSTAMP:20260424T020229
CREATED:20250828T050249Z
LAST-MODIFIED:20250828T050249Z
UID:5879-1757991600-1758077999@www.sarahruthalexander.com
SUMMARY:Tiger D
DESCRIPTION:
URL:https://www.sarahruthalexander.com/event/tiger-d-397
LOCATION:8–10PM on 92.9FM\, Denton\, TX
END:VEVENT
BEGIN:VEVENT
DTSTART;VALUE=DATE:20250912
DTEND;VALUE=DATE:20250916
DTSTAMP:20260424T020229
CREATED:20250829T040956Z
LAST-MODIFIED:20250829T040956Z
UID:5891-1757646000-1757905199@www.sarahruthalexander.com
SUMMARY:Sarah Ruth @ Sonic Rodeo
DESCRIPTION:
URL:https://www.sarahruthalexander.com/event/sarah-ruth-sonic-rodeo
LOCATION:Marfa\, TX
END:VEVENT
BEGIN:VEVENT
DTSTART;VALUE=DATE:20250909
DTEND;VALUE=DATE:20250911
DTSTAMP:20260424T020229
CREATED:20250828T050240Z
LAST-MODIFIED:20250828T050240Z
UID:5878-1757386800-1757473199@www.sarahruthalexander.com
SUMMARY:Tiger D
DESCRIPTION:
URL:https://www.sarahruthalexander.com/event/tiger-d-396
LOCATION:8–10PM on 92.9FM\, Denton\, TX
END:VEVENT
BEGIN:VEVENT
DTSTART;VALUE=DATE:20250902
DTEND;VALUE=DATE:20250904
DTSTAMP:20260424T020229
CREATED:20250828T050231Z
LAST-MODIFIED:20250828T050231Z
UID:5877-1756782000-1756868399@www.sarahruthalexander.com
SUMMARY:Tiger D
DESCRIPTION:
URL:https://www.sarahruthalexander.com/event/tiger-d-395
LOCATION:8–10PM on 92.9FM\, Denton\, TX
END:VEVENT
BEGIN:VEVENT
DTSTART;VALUE=DATE:20250826
DTEND;VALUE=DATE:20250828
DTSTAMP:20260424T020229
CREATED:20250801T193958Z
LAST-MODIFIED:20250813T205430Z
UID:5572-1756177200-1756263599@www.sarahruthalexander.com
SUMMARY:Tiger D w/ guest host Stephen Lucas
DESCRIPTION:
URL:https://www.sarahruthalexander.com/event/tiger-d-394
LOCATION:8–10PM on 92.9FM\, Denton\, TX
END:VEVENT
BEGIN:VEVENT
DTSTART;VALUE=DATE:20250822
DTEND;VALUE=DATE:20250824
DTSTAMP:20260424T020229
CREATED:20250727T081308Z
LAST-MODIFIED:20250727T081308Z
UID:5521-1755831600-1755917999@www.sarahruthalexander.com
SUMMARY:aqueous: Sarah Ruth & Rosemary Candelario @ Salish Sea Butoh Festival Butoh Festival
DESCRIPTION:
URL:https://www.sarahruthalexander.com/event/aqueous-sarah-ruth-rosemary-candelario-salish-sea-butoh-festival-butoh-festival
LOCATION:Port Townsend\, WA @ Fort Worden State Park
END:VEVENT
BEGIN:VEVENT
DTSTART;VALUE=DATE:20250819
DTEND;VALUE=DATE:20250821
DTSTAMP:20260424T020229
CREATED:20250806T031729Z
LAST-MODIFIED:20250806T031729Z
UID:5636-1755572400-1755658799@www.sarahruthalexander.com
SUMMARY:Sarah Ruth @ unpoetry w/ Sullivan Forderhase\, Rachel Leblanc\, Rose Martin\, & Sophie Chin
DESCRIPTION:
URL:https://www.sarahruthalexander.com/event/sarah-ruth-unpoetry-w-sullivan-forderhase-rachel-leblanc-rose-martin-sophie-chin
LOCATION:Seattle\, WA @ Bad Bar
END:VEVENT
BEGIN:VEVENT
DTSTART;VALUE=DATE:20250819
DTEND;VALUE=DATE:20250821
DTSTAMP:20260424T020229
CREATED:20250801T193941Z
LAST-MODIFIED:20250801T194030Z
UID:5571-1755572400-1755658799@www.sarahruthalexander.com
SUMMARY:Tiger D w/ guest host Stephen Lucas
DESCRIPTION:
URL:https://www.sarahruthalexander.com/event/tiger-d-393
LOCATION:8–10PM on 92.9FM\, Denton\, TX
END:VEVENT
BEGIN:VEVENT
DTSTART;VALUE=DATE:20250817
DTEND;VALUE=DATE:20250819
DTSTAMP:20260424T020229
CREATED:20250723T002138Z
LAST-MODIFIED:20250723T002138Z
UID:5468-1755399600-1755485999@www.sarahruthalexander.com
SUMMARY:Covergrrrl
DESCRIPTION:
URL:https://www.sarahruthalexander.com/event/covergrrrl-7
LOCATION:8–10PM on 92.9FM\, Denton\, TX
END:VEVENT
BEGIN:VEVENT
DTSTART;VALUE=DATE:20250816
DTEND;VALUE=DATE:20250818
DTSTAMP:20260424T020229
CREATED:20250801T193556Z
LAST-MODIFIED:20250801T193556Z
UID:5563-1755313200-1755399599@www.sarahruthalexander.com
SUMMARY:Secret Recording Session
DESCRIPTION:
URL:https://www.sarahruthalexander.com/event/secret-recording-session
LOCATION:Santa Fe\, NM
END:VEVENT
BEGIN:VEVENT
DTSTART;VALUE=DATE:20250814
DTEND;VALUE=DATE:20250816
DTSTAMP:20260424T020229
CREATED:20250612T014404Z
LAST-MODIFIED:20250813T205504Z
UID:5015-1755140400-1755226799@www.sarahruthalexander.com
SUMMARY:Sarah Ruth @ Chris Welch Album Release w/ Assisted Living & Edgar Derby
DESCRIPTION:
URL:https://www.sarahruthalexander.com/event/sarah-ruth-w-chris-welch
LOCATION:Denton\, TX @ Rubber Gloves
END:VEVENT
BEGIN:VEVENT
DTSTART;VALUE=DATE:20250812
DTEND;VALUE=DATE:20250814
DTSTAMP:20260424T020229
CREATED:20250801T193932Z
LAST-MODIFIED:20250801T193932Z
UID:5570-1754967600-1755053999@www.sarahruthalexander.com
SUMMARY:Tiger D
DESCRIPTION:
URL:https://www.sarahruthalexander.com/event/tiger-d-392
LOCATION:8–10PM on 92.9FM\, Denton\, TX
END:VEVENT
BEGIN:VEVENT
DTSTART;VALUE=DATE:20250810
DTEND;VALUE=DATE:20250812
DTSTAMP:20260424T020229
CREATED:20250803T035731Z
LAST-MODIFIED:20250803T084418Z
UID:5602-1754794800-1754881199@www.sarahruthalexander.com
SUMMARY:Fellowship of the Arid Plain Film Screening @ Aural Histories w/ Warren Realrider & Micaela Tobin
DESCRIPTION:
URL:https://www.sarahruthalexander.com/event/fellowship-of-the-arid-plain-film-screening-aural-histories-w-warren-realrider-micaela-tobin
LOCATION:Tulsa\, OK @ Queen Rose Art House
END:VEVENT
BEGIN:VEVENT
DTSTART;VALUE=DATE:20250806
DTEND;VALUE=DATE:20250808
DTSTAMP:20260424T020229
CREATED:20250723T002217Z
LAST-MODIFIED:20250723T002217Z
UID:5470-1754449200-1754535599@www.sarahruthalexander.com
SUMMARY:Joan of Bark Presents Fellowship of the Arid Plain Film Screening\, blendways\, & Kory Reeder
DESCRIPTION:
URL:https://www.sarahruthalexander.com/event/joan-of-bark-presents-fellowship-of-the-arid-plain-film-screening-blendways-kory-reeder
LOCATION:Denton\, TX @ Rubber Gloves
END:VEVENT
BEGIN:VEVENT
DTSTART;VALUE=DATE:20250805
DTEND;VALUE=DATE:20250807
DTSTAMP:20260424T020229
CREATED:20250801T193923Z
LAST-MODIFIED:20250801T193923Z
UID:5569-1754362800-1754449199@www.sarahruthalexander.com
SUMMARY:Tiger D
DESCRIPTION:
URL:https://www.sarahruthalexander.com/event/tiger-d-391
LOCATION:8–10PM on 92.9FM\, Denton\, TX
END:VEVENT
BEGIN:VEVENT
DTSTART;VALUE=DATE:20250729
DTEND;VALUE=DATE:20250731
DTSTAMP:20260424T020229
CREATED:20250627T045121Z
LAST-MODIFIED:20250627T045121Z
UID:5191-1753758000-1753844399@www.sarahruthalexander.com
SUMMARY:Tiger D
DESCRIPTION:
URL:https://www.sarahruthalexander.com/event/tiger-d-390
LOCATION:8–10PM on 92.9FM\, Denton\, TX
END:VEVENT
BEGIN:VEVENT
DTSTART;VALUE=DATE:20250722
DTEND;VALUE=DATE:20250724
DTSTAMP:20260424T020229
CREATED:20250627T045108Z
LAST-MODIFIED:20250627T045108Z
UID:5190-1753153200-1753239599@www.sarahruthalexander.com
SUMMARY:Tiger D
DESCRIPTION:
URL:https://www.sarahruthalexander.com/event/tiger-d-389
LOCATION:8–10PM on 92.9FM\, Denton\, TX
END:VEVENT
BEGIN:VEVENT
DTSTART;VALUE=DATE:20250720
DTEND;VALUE=DATE:20250722
DTSTAMP:20260424T020229
CREATED:20250710T043227Z
LAST-MODIFIED:20250710T043227Z
UID:5338-1752980400-1753066799@www.sarahruthalexander.com
SUMMARY:Covergrrrl
DESCRIPTION:
URL:https://www.sarahruthalexander.com/event/covergrrrl-6
LOCATION:8–10PM on 92.9FM\, Denton\, TX
END:VEVENT
BEGIN:VEVENT
DTSTART;VALUE=DATE:20250716
DTEND;VALUE=DATE:20250718
DTSTAMP:20260424T020229
CREATED:20250723T002114Z
LAST-MODIFIED:20250723T002114Z
UID:5465-1752634800-1752721199@www.sarahruthalexander.com
SUMMARY:Joan of Bark Presents Heavy Stars\, Jazz + Grae\, & Aharon Yitzchak
DESCRIPTION:
URL:https://www.sarahruthalexander.com/event/joan-of-bark-presents-heavy-stars-jazz-grae-aharon-yitzchak
LOCATION:Denton\, TX @ Rubber Gloves
END:VEVENT
BEGIN:VEVENT
DTSTART;VALUE=DATE:20250715
DTEND;VALUE=DATE:20250717
DTSTAMP:20260424T020229
CREATED:20250627T045056Z
LAST-MODIFIED:20250627T045148Z
UID:5189-1752548400-1752634799@www.sarahruthalexander.com
SUMMARY:Tiger D w/ guest host Stephen Lucas
DESCRIPTION:
URL:https://www.sarahruthalexander.com/event/tiger-d-388
LOCATION:8–10PM on 92.9FM\, Denton\, TX
END:VEVENT
BEGIN:VEVENT
DTSTART;VALUE=DATE:20250715
DTEND;VALUE=DATE:20250717
DTSTAMP:20260424T020229
CREATED:20250612T014201Z
LAST-MODIFIED:20250623T070854Z
UID:5013-1752548400-1752634799@www.sarahruthalexander.com
SUMMARY:Cathy and Carl w/ Googleplexia\, Cacodemon\, & Spintendo&Co
DESCRIPTION:
URL:https://www.sarahruthalexander.com/event/cathy-and-carl
LOCATION:Denton\, TX @ Rubber Gloves
END:VEVENT
BEGIN:VEVENT
DTSTART;VALUE=DATE:20250708
DTEND;VALUE=DATE:20250710
DTSTAMP:20260424T020229
CREATED:20250627T045047Z
LAST-MODIFIED:20250627T045047Z
UID:5188-1751943600-1752029999@www.sarahruthalexander.com
SUMMARY:Tiger D
DESCRIPTION:
URL:https://www.sarahruthalexander.com/event/tiger-d-387
LOCATION:8–10PM on 92.9FM\, Denton\, TX
END:VEVENT
BEGIN:VEVENT
DTSTART;VALUE=DATE:20250701
DTEND;VALUE=DATE:20250703
DTSTAMP:20260424T020229
CREATED:20250627T045038Z
LAST-MODIFIED:20250627T045038Z
UID:5187-1751338800-1751425199@www.sarahruthalexander.com
SUMMARY:Tiger D
DESCRIPTION:
URL:https://www.sarahruthalexander.com/event/tiger-d-386
LOCATION:8–10PM on 92.9FM\, Denton\, TX
END:VEVENT
BEGIN:VEVENT
DTSTART;VALUE=DATE:20250625
DTEND;VALUE=DATE:20250627
DTSTAMP:20260424T020229
CREATED:20250611T054454Z
LAST-MODIFIED:20250617T051835Z
UID:5006-1750820400-1750906799@www.sarahruthalexander.com
SUMMARY:Joan of Bark Presents DonnaGonzalez/GraeGonzalez\, The Side Chicks\, & GentleDoom/IMCAT
DESCRIPTION:
URL:https://www.sarahruthalexander.com/event/joan-of-bark-presents-5
LOCATION:Denton\, TX @ Rubber Gloves
END:VEVENT
END:VCALENDAR