BEGIN:VCALENDAR
VERSION:2.0
PRODID:-//Sarah Ruth Alexander - ECPv6.15.20//NONSGML v1.0//EN
CALSCALE:GREGORIAN
METHOD:PUBLISH
X-WR-CALNAME:Sarah Ruth Alexander
X-ORIGINAL-URL:https://www.sarahruthalexander.com
X-WR-CALDESC:Events for Sarah Ruth Alexander
REFRESH-INTERVAL;VALUE=DURATION:PT1H
X-Robots-Tag:noindex
X-PUBLISHED-TTL:PT1H
BEGIN:VTIMEZONE
TZID:America/Chicago
BEGIN:DAYLIGHT
TZOFFSETFROM:-0600
TZOFFSETTO:-0500
TZNAME:CDT
DTSTART:20210314T080000
END:DAYLIGHT
BEGIN:STANDARD
TZOFFSETFROM:-0500
TZOFFSETTO:-0600
TZNAME:CST
DTSTART:20211107T070000
END:STANDARD
BEGIN:DAYLIGHT
TZOFFSETFROM:-0600
TZOFFSETTO:-0500
TZNAME:CDT
DTSTART:20220313T080000
END:DAYLIGHT
BEGIN:STANDARD
TZOFFSETFROM:-0500
TZOFFSETTO:-0600
TZNAME:CST
DTSTART:20221106T070000
END:STANDARD
BEGIN:DAYLIGHT
TZOFFSETFROM:-0600
TZOFFSETTO:-0500
TZNAME:CDT
DTSTART:20230312T080000
END:DAYLIGHT
BEGIN:STANDARD
TZOFFSETFROM:-0500
TZOFFSETTO:-0600
TZNAME:CST
DTSTART:20231105T070000
END:STANDARD
END:VTIMEZONE
BEGIN:VEVENT
DTSTART;VALUE=DATE:20220604
DTEND;VALUE=DATE:20220606
DTSTAMP:20260425T221740
CREATED:20220606T063533Z
LAST-MODIFIED:20220606T063533Z
UID:2351-1654311600-1654397999@www.sarahruthalexander.com
SUMMARY:Kuzuthon V
DESCRIPTION:
URL:https://www.sarahruthalexander.com/event/kuzuthon-v
LOCATION:92.9FM Denton\, TX
END:VEVENT
BEGIN:VEVENT
DTSTART;VALUE=DATE:20220531
DTEND;VALUE=DATE:20220602
DTSTAMP:20260425T221740
CREATED:20220427T071601Z
LAST-MODIFIED:20220427T071601Z
UID:2322-1653966000-1654052399@www.sarahruthalexander.com
SUMMARY:Tiger D
DESCRIPTION:
URL:https://www.sarahruthalexander.com/event/tiger-d-228
LOCATION:8–10PM on 92.9FM\, Denton\, TX
END:VEVENT
BEGIN:VEVENT
DTSTART;VALUE=DATE:20220524
DTEND;VALUE=DATE:20220526
DTSTAMP:20260425T221740
CREATED:20220427T071550Z
LAST-MODIFIED:20220427T071550Z
UID:2321-1653361200-1653447599@www.sarahruthalexander.com
SUMMARY:Tiger D
DESCRIPTION:
URL:https://www.sarahruthalexander.com/event/tiger-d-227
LOCATION:8–10PM on 92.9FM\, Denton\, TX
END:VEVENT
BEGIN:VEVENT
DTSTART;VALUE=DATE:20220517
DTEND;VALUE=DATE:20220519
DTSTAMP:20260425T221740
CREATED:20220427T071538Z
LAST-MODIFIED:20220514T065130Z
UID:2320-1652756400-1652842799@www.sarahruthalexander.com
SUMMARY:Tiger D w/ guest Aaron Gonzalez
DESCRIPTION:
URL:https://www.sarahruthalexander.com/event/tiger-d-226
LOCATION:8–10PM on 92.9FM\, Denton\, TX
END:VEVENT
BEGIN:VEVENT
DTSTART;VALUE=DATE:20220515
DTEND;VALUE=DATE:20220517
DTSTAMP:20260425T221740
CREATED:20220418T053609Z
LAST-MODIFIED:20220418T053609Z
UID:2309-1652583600-1652669999@www.sarahruthalexander.com
SUMMARY:In Praise of Covers 10
DESCRIPTION:
URL:https://www.sarahruthalexander.com/event/in-praise-of-covers-10
LOCATION:8–10PM on 92.9FM\, Denton\, TX
END:VEVENT
BEGIN:VEVENT
DTSTART;VALUE=DATE:20220511
DTEND;VALUE=DATE:20220513
DTSTAMP:20260425T221740
CREATED:20220508T095523Z
LAST-MODIFIED:20220703T200128Z
UID:2329-1652238000-1652324399@www.sarahruthalexander.com
SUMMARY:Molten Plains I: SarahRuth/SarahGamblin/SarahJay w/ JasonKahn/AlanFJones/Monte Espina & KoryReeder/ConnerSimmons
DESCRIPTION:
URL:https://www.sarahruthalexander.com/event/molten-plains-i
LOCATION:Denton\, TX @ Rubber Gloves
END:VEVENT
BEGIN:VEVENT
DTSTART;VALUE=DATE:20220510
DTEND;VALUE=DATE:20220512
DTSTAMP:20260425T221740
CREATED:20220427T071528Z
LAST-MODIFIED:20220427T071528Z
UID:2319-1652151600-1652237999@www.sarahruthalexander.com
SUMMARY:Tiger D
DESCRIPTION:
URL:https://www.sarahruthalexander.com/event/tiger-d-225
LOCATION:8–10PM on 92.9FM\, Denton\, TX
END:VEVENT
BEGIN:VEVENT
DTSTART;VALUE=DATE:20220503
DTEND;VALUE=DATE:20220505
DTSTAMP:20260425T221740
CREATED:20220427T071517Z
LAST-MODIFIED:20220427T071517Z
UID:2318-1651546800-1651633199@www.sarahruthalexander.com
SUMMARY:Tiger D
DESCRIPTION:
URL:https://www.sarahruthalexander.com/event/tiger-d-224
LOCATION:8–10PM on 92.9FM\, Denton\, TX
END:VEVENT
BEGIN:VEVENT
DTSTART;VALUE=DATE:20220430
DTEND;VALUE=DATE:20220502
DTSTAMP:20260425T221740
CREATED:20220418T223330Z
LAST-MODIFIED:20220418T223330Z
UID:2311-1651287600-1651373999@www.sarahruthalexander.com
SUMMARY:Sarah Ruth at COTFG w/ Wendy Eisenberg & Little Mazarn
DESCRIPTION:
URL:https://www.sarahruthalexander.com/event/sarah-ruth-at-cotfg-w-wendy-eisenberg-little-mazarn
LOCATION:Austin\, TX @ Dimension Gallery Sculpture Park
END:VEVENT
BEGIN:VEVENT
DTSTART;VALUE=DATE:20220429
DTEND;VALUE=DATE:20220501
DTSTAMP:20260425T221740
CREATED:20220402T005006Z
LAST-MODIFIED:20220402T005145Z
UID:2290-1651201200-1651287599@www.sarahruthalexander.com
SUMMARY:Bitches Set Traps w/ Wendy Eisenberg
DESCRIPTION:
URL:https://www.sarahruthalexander.com/event/bitches-set-traps-4
LOCATION:Shreveport\, LA @ minicine?
END:VEVENT
BEGIN:VEVENT
DTSTART;VALUE=DATE:20220426
DTEND;VALUE=DATE:20220428
DTSTAMP:20260425T221740
CREATED:20220405T003339Z
LAST-MODIFIED:20220405T003339Z
UID:2299-1650942000-1651028399@www.sarahruthalexander.com
SUMMARY:Tiger D
DESCRIPTION:
URL:https://www.sarahruthalexander.com/event/tiger-d-223
LOCATION:8–10PM on 92.9FM\, Denton\, TX
END:VEVENT
BEGIN:VEVENT
DTSTART;VALUE=DATE:20220425
DTEND;VALUE=DATE:20220427
DTSTAMP:20260425T221740
CREATED:20220419T155159Z
LAST-MODIFIED:20220425T223407Z
UID:2314-1650855600-1650941999@www.sarahruthalexander.com
SUMMARY:SarahRuth/SoniaFlores @ They\, Who Sound w/ WilliamGray/LêQuanNinh/ErnestoMontiel
DESCRIPTION:
URL:https://www.sarahruthalexander.com/event/sarahruth-soniaflores-they-who-sound-w-williamgray-ernestomontiel
LOCATION:Houston\, TX @ Lawndale Art Center
END:VEVENT
BEGIN:VEVENT
DTSTART;VALUE=DATE:20220421
DTEND;VALUE=DATE:20220423
DTSTAMP:20260425T221740
CREATED:20220222T002032Z
LAST-MODIFIED:20230329T033336Z
UID:2261-1650510000-1650596399@www.sarahruthalexander.com
SUMMARY:Sounds Modern presents Cobra @ Six Foot Love
DESCRIPTION:
URL:https://www.sarahruthalexander.com/event/sounds-modern-cobra-six-foot-love
LOCATION:Dallas\, TX @ The Wild Detectives
END:VEVENT
BEGIN:VEVENT
DTSTART;VALUE=DATE:20220419
DTEND;VALUE=DATE:20220421
DTSTAMP:20260425T221740
CREATED:20220405T003325Z
LAST-MODIFIED:20220405T003325Z
UID:2298-1650337200-1650423599@www.sarahruthalexander.com
SUMMARY:Tiger D
DESCRIPTION:
URL:https://www.sarahruthalexander.com/event/tiger-d-222
LOCATION:8–10PM on 92.9FM\, Denton\, TX
END:VEVENT
BEGIN:VEVENT
DTSTART;VALUE=DATE:20220417
DTEND;VALUE=DATE:20220419
DTSTAMP:20260425T221740
CREATED:20220402T004840Z
LAST-MODIFIED:20230424T074422Z
UID:2288-1650164400-1650250799@www.sarahruthalexander.com
SUMMARY:Sarah Ruth @ Book Release Party with Spiderweb Salon + Goliad Media
DESCRIPTION:
URL:https://www.sarahruthalexander.com/event/sarah-ruth-book-release-party-with-spiderweb-salon-goliad-media
LOCATION:Denton\, TX @ Dan’s Silverleaf
END:VEVENT
BEGIN:VEVENT
DTSTART;VALUE=DATE:20220417
DTEND;VALUE=DATE:20220419
DTSTAMP:20260425T221741
CREATED:20220222T002345Z
LAST-MODIFIED:20230424T041040Z
UID:2266-1650164400-1650250799@www.sarahruthalexander.com
SUMMARY:In Praise of Covers 9
DESCRIPTION:
URL:https://www.sarahruthalexander.com/event/in-praise-of-covers-9
LOCATION:8–10PM on 92.9FM\, Denton\, TX
END:VEVENT
BEGIN:VEVENT
DTSTART;VALUE=DATE:20220416
DTEND;VALUE=DATE:20220418
DTSTAMP:20260425T221741
CREATED:20220222T001933Z
LAST-MODIFIED:20230329T033325Z
UID:2259-1650078000-1650164399@www.sarahruthalexander.com
SUMMARY:Sounds Modern: Replay
DESCRIPTION:
URL:https://www.sarahruthalexander.com/event/sounds-modern-replay
LOCATION:Fort Worth\, TX @ The Modern Art Museum of Fort Worth
END:VEVENT
BEGIN:VEVENT
DTSTART;VALUE=DATE:20220414
DTEND;VALUE=DATE:20220416
DTSTAMP:20260425T221741
CREATED:20220405T003710Z
LAST-MODIFIED:20220405T003719Z
UID:2305-1649905200-1649991599@www.sarahruthalexander.com
SUMMARY:Hear the Art of "Soundwaves" with artist Raven Chacon + Nameless Sound
DESCRIPTION:
URL:https://www.sarahruthalexander.com/event/hear-the-art-of-soundwaves-with-artist-raven-chacon-nameless-sound
LOCATION:Houston\, TX @ Moody Center for the Arts at Rice University
END:VEVENT
BEGIN:VEVENT
DTSTART;VALUE=DATE:20220412
DTEND;VALUE=DATE:20220414
DTSTAMP:20260425T221741
CREATED:20220405T003309Z
LAST-MODIFIED:20220405T003309Z
UID:2297-1649732400-1649818799@www.sarahruthalexander.com
SUMMARY:Tiger D w/ guest host Stephen Lucas
DESCRIPTION:
URL:https://www.sarahruthalexander.com/event/tiger-d-w-guest-host-stephen-lucas
LOCATION:8–10PM on 92.9FM\, Denton\, TX
END:VEVENT
BEGIN:VEVENT
DTSTART;VALUE=DATE:20220408
DTEND;VALUE=DATE:20220410
DTSTAMP:20260425T221741
CREATED:20220402T004637Z
LAST-MODIFIED:20220402T004637Z
UID:2285-1649386800-1649473199@www.sarahruthalexander.com
SUMMARY:SarahRuth/AaronGonzalez/Ernesto Montiel w/ Maria Elena Silva\, Naomi Kliewer\, & Prettyklawz
DESCRIPTION:
URL:https://www.sarahruthalexander.com/event/sarahruth-aarongonzalez-ernesto-montiel-w-maria-elena-silva-naomi-kliewer-prettyklawz
LOCATION:Denton\, TX @ The Farmacy
END:VEVENT
BEGIN:VEVENT
DTSTART;VALUE=DATE:20220405
DTEND;VALUE=DATE:20220407
DTSTAMP:20260425T221741
CREATED:20220405T003251Z
LAST-MODIFIED:20220405T003251Z
UID:2296-1649127600-1649213999@www.sarahruthalexander.com
SUMMARY:Tiger D
DESCRIPTION:
URL:https://www.sarahruthalexander.com/event/tiger-d-221
LOCATION:8–10PM on 92.9FM\, Denton\, TX
END:VEVENT
BEGIN:VEVENT
DTSTART;VALUE=DATE:20220329
DTEND;VALUE=DATE:20220331
DTSTAMP:20260425T221741
CREATED:20220309T042253Z
LAST-MODIFIED:20220309T042253Z
UID:2278-1648522800-1648609199@www.sarahruthalexander.com
SUMMARY:Tiger D
DESCRIPTION:
URL:https://www.sarahruthalexander.com/event/tiger-d-220
LOCATION:8–10PM on 92.9FM\, Denton\, TX
END:VEVENT
BEGIN:VEVENT
DTSTART;VALUE=DATE:20220326
DTEND;VALUE=DATE:20220328
DTSTAMP:20260425T221741
CREATED:20220222T001341Z
LAST-MODIFIED:20240825T015850Z
UID:2253-1648263600-1648349999@www.sarahruthalexander.com
SUMMARY:aqueous: Sarah Ruth & Rosemary Candelario
DESCRIPTION:
URL:https://www.sarahruthalexander.com/event/aqueous-w-rosemary-candelario
LOCATION:El Paso\, TX @ Water at Rio Bosque
END:VEVENT
BEGIN:VEVENT
DTSTART;VALUE=DATE:20220322
DTEND;VALUE=DATE:20220324
DTSTAMP:20260425T221741
CREATED:20220309T042245Z
LAST-MODIFIED:20220309T042245Z
UID:2277-1647918000-1648004399@www.sarahruthalexander.com
SUMMARY:Tiger D
DESCRIPTION:
URL:https://www.sarahruthalexander.com/event/tiger-d-219
LOCATION:8–10PM on 92.9FM\, Denton\, TX
END:VEVENT
BEGIN:VEVENT
DTSTART;VALUE=DATE:20220321
DTEND;VALUE=DATE:20220323
DTSTAMP:20260425T221741
CREATED:20220210T175256Z
LAST-MODIFIED:20220222T002048Z
UID:2246-1647831600-1647917999@www.sarahruthalexander.com
SUMMARY:Bitches Set Traps w/ Factual Brains & Improvised Magic Ensemble
DESCRIPTION:
URL:https://www.sarahruthalexander.com/event/bitches-set-traps-w-factual-brains-improvised-magic-ensemble
LOCATION:Denton\, TX @ Killer’s Tacos
END:VEVENT
BEGIN:VEVENT
DTSTART;VALUE=DATE:20220320
DTEND;VALUE=DATE:20220322
DTSTAMP:20260425T221741
CREATED:20220606T063112Z
LAST-MODIFIED:20220606T063112Z
UID:2346-1647745200-1647831599@www.sarahruthalexander.com
SUMMARY:In Praise of Dennis Gonzalez
DESCRIPTION:
URL:https://www.sarahruthalexander.com/event/in-praise-of-dennis-gonzalez
LOCATION:8–10PM on 92.9FM\, Denton\, TX
END:VEVENT
BEGIN:VEVENT
DTSTART;VALUE=DATE:20220315
DTEND;VALUE=DATE:20220317
DTSTAMP:20260425T221741
CREATED:20220309T042237Z
LAST-MODIFIED:20220309T042237Z
UID:2276-1647313200-1647399599@www.sarahruthalexander.com
SUMMARY:Tiger D
DESCRIPTION:
URL:https://www.sarahruthalexander.com/event/tiger-d-218
LOCATION:8–10PM on 92.9FM\, Denton\, TX
END:VEVENT
BEGIN:VEVENT
DTSTART;VALUE=DATE:20220312
DTEND;VALUE=DATE:20220314
DTSTAMP:20260425T221741
CREATED:20220303T084443Z
LAST-MODIFIED:20230424T074330Z
UID:2271-1647054000-1647140399@www.sarahruthalexander.com
SUMMARY:Sarah Ruth @ Retrograde Survivors' Club #2
DESCRIPTION:
URL:https://www.sarahruthalexander.com/event/sarah-ruth-retrograde-survivors-club-2
LOCATION:Denton\, TX @ Rubber Gloves
END:VEVENT
BEGIN:VEVENT
DTSTART;VALUE=DATE:20220308
DTEND;VALUE=DATE:20220310
DTSTAMP:20260425T221741
CREATED:20220309T042228Z
LAST-MODIFIED:20220309T042228Z
UID:2275-1646708400-1646794799@www.sarahruthalexander.com
SUMMARY:Tiger D
DESCRIPTION:
URL:https://www.sarahruthalexander.com/event/tiger-d-217
LOCATION:8–10PM on 92.9FM\, Denton\, TX
END:VEVENT
BEGIN:VEVENT
DTSTART;VALUE=DATE:20220302
DTEND;VALUE=DATE:20220304
DTSTAMP:20260425T221741
CREATED:20220301T214555Z
LAST-MODIFIED:20220301T214555Z
UID:2269-1646190000-1646276399@www.sarahruthalexander.com
SUMMARY:Sarah Ruth in Little Mazarn + Thor & Friends
DESCRIPTION:
URL:https://www.sarahruthalexander.com/event/sarah-ruth-in-little-mazarn-thor-friends
LOCATION:Dallas\, TX @ The Wild Detectives
END:VEVENT
END:VCALENDAR