BEGIN:VCALENDAR
VERSION:2.0
PRODID:-//Sarah Ruth Alexander - ECPv6.15.20//NONSGML v1.0//EN
CALSCALE:GREGORIAN
METHOD:PUBLISH
X-WR-CALNAME:Sarah Ruth Alexander
X-ORIGINAL-URL:https://www.sarahruthalexander.com
X-WR-CALDESC:Events for Sarah Ruth Alexander
REFRESH-INTERVAL;VALUE=DURATION:PT1H
X-Robots-Tag:noindex
X-PUBLISHED-TTL:PT1H
BEGIN:VTIMEZONE
TZID:America/Chicago
BEGIN:DAYLIGHT
TZOFFSETFROM:-0600
TZOFFSETTO:-0500
TZNAME:CDT
DTSTART:20240310T080000
END:DAYLIGHT
BEGIN:STANDARD
TZOFFSETFROM:-0500
TZOFFSETTO:-0600
TZNAME:CST
DTSTART:20241103T070000
END:STANDARD
BEGIN:DAYLIGHT
TZOFFSETFROM:-0600
TZOFFSETTO:-0500
TZNAME:CDT
DTSTART:20250309T080000
END:DAYLIGHT
BEGIN:STANDARD
TZOFFSETFROM:-0500
TZOFFSETTO:-0600
TZNAME:CST
DTSTART:20251102T070000
END:STANDARD
BEGIN:DAYLIGHT
TZOFFSETFROM:-0600
TZOFFSETTO:-0500
TZNAME:CDT
DTSTART:20260308T080000
END:DAYLIGHT
BEGIN:STANDARD
TZOFFSETFROM:-0500
TZOFFSETTO:-0600
TZNAME:CST
DTSTART:20261101T070000
END:STANDARD
BEGIN:DAYLIGHT
TZOFFSETFROM:-0600
TZOFFSETTO:-0500
TZNAME:CDT
DTSTART:20270314T080000
END:DAYLIGHT
BEGIN:STANDARD
TZOFFSETFROM:-0500
TZOFFSETTO:-0600
TZNAME:CST
DTSTART:20271107T070000
END:STANDARD
END:VTIMEZONE
BEGIN:VEVENT
DTSTART;VALUE=DATE:20260118
DTEND;VALUE=DATE:20260120
DTSTAMP:20260423T185334
CREATED:20260101T224837Z
LAST-MODIFIED:20260101T224837Z
UID:6549-1768705200-1768791599@www.sarahruthalexander.com
SUMMARY:Covergrrrl
DESCRIPTION:
URL:https://www.sarahruthalexander.com/event/covergrrrl-12
LOCATION:8–10PM on 92.9FM\, Denton\, TX
END:VEVENT
BEGIN:VEVENT
DTSTART;VALUE=DATE:20260113
DTEND;VALUE=DATE:20260115
DTSTAMP:20260423T185334
CREATED:20260101T224801Z
LAST-MODIFIED:20260101T224801Z
UID:6542-1768273200-1768359599@www.sarahruthalexander.com
SUMMARY:Tiger D
DESCRIPTION:
URL:https://www.sarahruthalexander.com/event/tiger-d-412
LOCATION:8–10PM on 92.9FM\, Denton\, TX
END:VEVENT
BEGIN:VEVENT
DTSTART;VALUE=DATE:20260106
DTEND;VALUE=DATE:20260108
DTSTAMP:20260423T185334
CREATED:20260101T224754Z
LAST-MODIFIED:20260112T080109Z
UID:6541-1767668400-1767754799@www.sarahruthalexander.com
SUMMARY:Tiger D w/ guest host Stephen Lucas
DESCRIPTION:
URL:https://www.sarahruthalexander.com/event/tiger-d-411
LOCATION:8–10PM on 92.9FM\, Denton\, TX
END:VEVENT
BEGIN:VEVENT
DTSTART;VALUE=DATE:20251230
DTEND;VALUE=DATE:20260101
DTSTAMP:20260423T185334
CREATED:20251203T061600Z
LAST-MODIFIED:20251228T232017Z
UID:6414-1767063600-1767149999@www.sarahruthalexander.com
SUMMARY:Tiger D w/ guest Alexander Hughes
DESCRIPTION:
URL:https://www.sarahruthalexander.com/event/tiger-d-410
LOCATION:8–10PM on 92.9FM\, Denton\, TX
END:VEVENT
BEGIN:VEVENT
DTSTART;VALUE=DATE:20251223
DTEND;VALUE=DATE:20251225
DTSTAMP:20260423T185334
CREATED:20251203T061551Z
LAST-MODIFIED:20251203T061551Z
UID:6413-1766458800-1766545199@www.sarahruthalexander.com
SUMMARY:Tiger D
DESCRIPTION:
URL:https://www.sarahruthalexander.com/event/tiger-d-409
LOCATION:8–10PM on 92.9FM\, Denton\, TX
END:VEVENT
BEGIN:VEVENT
DTSTART;VALUE=DATE:20251221
DTEND;VALUE=DATE:20251223
DTSTAMP:20260423T185334
CREATED:20251203T061930Z
LAST-MODIFIED:20251203T061930Z
UID:6420-1766286000-1766372399@www.sarahruthalexander.com
SUMMARY:Covergrrrl
DESCRIPTION:
URL:https://www.sarahruthalexander.com/event/covergrrrl-11
LOCATION:8–10PM on 92.9FM\, Denton\, TX
END:VEVENT
BEGIN:VEVENT
DTSTART;VALUE=DATE:20251213
DTEND;VALUE=DATE:20251215
DTSTAMP:20260423T185334
CREATED:20250922T213323Z
LAST-MODIFIED:20250922T213323Z
UID:6131-1765594800-1765681199@www.sarahruthalexander.com
SUMMARY:Joan of Bark FEST
DESCRIPTION:
URL:https://www.sarahruthalexander.com/event/joan-of-bark-fest
LOCATION:Denton\, TX @ Rubber Gloves
END:VEVENT
BEGIN:VEVENT
DTSTART;VALUE=DATE:20251209
DTEND;VALUE=DATE:20251211
DTSTAMP:20260423T185334
CREATED:20251203T061532Z
LAST-MODIFIED:20251203T061532Z
UID:6411-1765249200-1765335599@www.sarahruthalexander.com
SUMMARY:Tiger D
DESCRIPTION:
URL:https://www.sarahruthalexander.com/event/tiger-d-408
LOCATION:8–10PM on 92.9FM\, Denton\, TX
END:VEVENT
BEGIN:VEVENT
DTSTART;VALUE=DATE:20251206
DTEND;VALUE=DATE:20251208
DTSTAMP:20260423T185334
CREATED:20260407T032500Z
LAST-MODIFIED:20260407T032500Z
UID:6854-1764990000-1765076399@www.sarahruthalexander.com
SUMMARY:Sounds Modern: The Anatomy of Sound
DESCRIPTION:
URL:https://www.sarahruthalexander.com/event/sounds-modern-the-anatomy-of-sound
LOCATION:Fort Worth\, TX @ The Modern Art Museum of Fort Worth
END:VEVENT
BEGIN:VEVENT
DTSTART;VALUE=DATE:20251202
DTEND;VALUE=DATE:20251204
DTSTAMP:20260423T185334
CREATED:20251203T061523Z
LAST-MODIFIED:20251203T061859Z
UID:6410-1764644400-1764730799@www.sarahruthalexander.com
SUMMARY:Tiger D w/ guest Micaela Tobin
DESCRIPTION:
URL:https://www.sarahruthalexander.com/event/tiger-d-407
LOCATION:8–10PM on 92.9FM\, Denton\, TX
END:VEVENT
BEGIN:VEVENT
DTSTART;VALUE=DATE:20251125
DTEND;VALUE=DATE:20251127
DTSTAMP:20260423T185334
CREATED:20251104T022541Z
LAST-MODIFIED:20251203T061440Z
UID:6298-1764039600-1764125999@www.sarahruthalexander.com
SUMMARY:Tiger D w/ guest Mateo Galindo
DESCRIPTION:
URL:https://www.sarahruthalexander.com/event/tiger-d-406
LOCATION:8–10PM on 92.9FM\, Denton\, TX
END:VEVENT
BEGIN:VEVENT
DTSTART;VALUE=DATE:20251119
DTEND;VALUE=DATE:20251121
DTSTAMP:20260423T185334
CREATED:20251104T054152Z
LAST-MODIFIED:20251104T054152Z
UID:6305-1763521200-1763607599@www.sarahruthalexander.com
SUMMARY:Joan of Bark Presents Veronica Anne Salinas\, Tammy's Bandinha\, MelanieLittleSmith/SarahRuthAlexander\, & Tammy Melody Gomez w/ Guest Readers
DESCRIPTION:
URL:https://www.sarahruthalexander.com/event/joan-of-bark-presents-veronica-anne-salinas-tammys-bandinha-melanielittlesmith-sarahruthalexander-tammy-melody-gomez-w-guest-readers
LOCATION:Denton\, TX @ Rubber Gloves
END:VEVENT
BEGIN:VEVENT
DTSTART;VALUE=DATE:20251118
DTEND;VALUE=DATE:20251120
DTSTAMP:20260423T185334
CREATED:20251104T022531Z
LAST-MODIFIED:20251116T224315Z
UID:6297-1763434800-1763521199@www.sarahruthalexander.com
SUMMARY:Tiger D w/ guest Warren Realrider
DESCRIPTION:
URL:https://www.sarahruthalexander.com/event/tiger-d-405
LOCATION:8–10PM on 92.9FM\, Denton\, TX
END:VEVENT
BEGIN:VEVENT
DTSTART;VALUE=DATE:20251116
DTEND;VALUE=DATE:20251118
DTSTAMP:20260423T185334
CREATED:20251104T022607Z
LAST-MODIFIED:20251104T022607Z
UID:6303-1763262000-1763348399@www.sarahruthalexander.com
SUMMARY:Covergrrrl
DESCRIPTION:
URL:https://www.sarahruthalexander.com/event/covergrrrl-10
LOCATION:8–10PM on 92.9FM\, Denton\, TX
END:VEVENT
BEGIN:VEVENT
DTSTART;VALUE=DATE:20251111
DTEND;VALUE=DATE:20251113
DTSTAMP:20260423T185334
CREATED:20251104T022522Z
LAST-MODIFIED:20251112T194456Z
UID:6296-1762830000-1762916399@www.sarahruthalexander.com
SUMMARY:Tiger D w/ guest Nathan Young
DESCRIPTION:
URL:https://www.sarahruthalexander.com/event/tiger-d-404
END:VEVENT
BEGIN:VEVENT
DTSTART;VALUE=DATE:20251104
DTEND;VALUE=DATE:20251106
DTSTAMP:20260423T185334
CREATED:20251104T022514Z
LAST-MODIFIED:20251104T022514Z
UID:6295-1762225200-1762311599@www.sarahruthalexander.com
SUMMARY:Tiger D
DESCRIPTION:
URL:https://www.sarahruthalexander.com/event/tiger-d-403
LOCATION:8–10PM on 92.9FM\, Denton\, TX
END:VEVENT
BEGIN:VEVENT
DTSTART;VALUE=DATE:20251029
DTEND;VALUE=DATE:20251031
DTSTAMP:20260423T185334
CREATED:20250922T213233Z
LAST-MODIFIED:20251013T042554Z
UID:6129-1761706800-1761793199@www.sarahruthalexander.com
SUMMARY:Joan of Bark Presents Air Field\, LisaCameron/KoryReeder\, Sounds Modern\, & Taylor Collins
DESCRIPTION:
URL:https://www.sarahruthalexander.com/event/joan-of-bark-presents-6
LOCATION:Denton\, TX @ Rubber Gloves
END:VEVENT
BEGIN:VEVENT
DTSTART;VALUE=DATE:20251028
DTEND;VALUE=DATE:20251030
DTSTAMP:20260423T185334
CREATED:20251013T042939Z
LAST-MODIFIED:20251013T042939Z
UID:6214-1761620400-1761706799@www.sarahruthalexander.com
SUMMARY:Tiger D
DESCRIPTION:
URL:https://www.sarahruthalexander.com/event/tiger-d-402
LOCATION:8–10PM on 92.9FM\, Denton\, TX
END:VEVENT
BEGIN:VEVENT
DTSTART;VALUE=DATE:20251021
DTEND;VALUE=DATE:20251023
DTSTAMP:20260423T185334
CREATED:20251013T042937Z
LAST-MODIFIED:20251013T042937Z
UID:6213-1761015600-1761101999@www.sarahruthalexander.com
SUMMARY:Tiger D
DESCRIPTION:
URL:https://www.sarahruthalexander.com/event/tiger-d-401
LOCATION:8–10PM on 92.9FM\, Denton\, TX
END:VEVENT
BEGIN:VEVENT
DTSTART;VALUE=DATE:20251019
DTEND;VALUE=DATE:20251021
DTSTAMP:20260423T185334
CREATED:20250929T040942Z
LAST-MODIFIED:20250929T040942Z
UID:6156-1760842800-1760929199@www.sarahruthalexander.com
SUMMARY:Covergrrrl
DESCRIPTION:
URL:https://www.sarahruthalexander.com/event/covergrrrl-9
LOCATION:8–10PM on 92.9FM\, Denton\, TX
END:VEVENT
BEGIN:VEVENT
DTSTART;VALUE=DATE:20251018
DTEND;VALUE=DATE:20251020
DTSTAMP:20260423T185334
CREATED:20251013T144417Z
LAST-MODIFIED:20251013T144417Z
UID:6221-1760756400-1760842799@www.sarahruthalexander.com
SUMMARY:aqueous: Sarah Ruth & Rosemary Candelario @ Forklift Danceworks
DESCRIPTION:
URL:https://www.sarahruthalexander.com/event/aqueous-sarah-ruth-rosemary-candelario-forklift-danceworks
LOCATION:Austin\, TX @ Colorado River
END:VEVENT
BEGIN:VEVENT
DTSTART;TZID=America/Chicago:20251014T080000
DTEND;TZID=America/Chicago:20251014T170000
DTSTAMP:20260423T185334
CREATED:20251013T042935Z
LAST-MODIFIED:20251013T042935Z
UID:6212-1760428800-1760461200@www.sarahruthalexander.com
SUMMARY:Tiger D Rerun from 2020/10/27 w/ guest Daron Beck
DESCRIPTION:
URL:https://www.sarahruthalexander.com/event/tiger-d-rerun-from-2020-10-27-w-guest-daron-beck
LOCATION:8–10PM on 92.9FM\, Denton\, TX
END:VEVENT
BEGIN:VEVENT
DTSTART;VALUE=DATE:20251013
DTEND;VALUE=DATE:20251015
DTSTAMP:20260423T185334
CREATED:20250930T060901Z
LAST-MODIFIED:20250930T060901Z
UID:6164-1760324400-1760410799@www.sarahruthalexander.com
SUMMARY:SarahRuth/WhiteBoyScream w/ Charmaine Lee & Godseye
DESCRIPTION:
URL:https://www.sarahruthalexander.com/event/sarahruth-whiteboyscream-w-charmaine-lee-godseye
LOCATION:Tulsa\, OK @ Drifters
END:VEVENT
BEGIN:VEVENT
DTSTART;VALUE=DATE:20251007
DTEND;VALUE=DATE:20251009
DTSTAMP:20260423T185334
CREATED:20251013T042853Z
LAST-MODIFIED:20251013T042853Z
UID:6211-1759806000-1759892399@www.sarahruthalexander.com
SUMMARY:Tiger D
DESCRIPTION:
URL:https://www.sarahruthalexander.com/event/tiger-d-400
LOCATION:8–10PM on 92.9FM\, Denton\, TX
END:VEVENT
BEGIN:VEVENT
DTSTART;VALUE=DATE:20251005
DTEND;VALUE=DATE:20251007
DTSTAMP:20260423T185334
CREATED:20260422T072800Z
LAST-MODIFIED:20260422T072800Z
UID:6907-1759633200-1759719599@www.sarahruthalexander.com
SUMMARY:Improvisation Workshop
DESCRIPTION:
URL:https://www.sarahruthalexander.com/event/improvisation-workshop
LOCATION:Houston\, TX @ Rice University
END:VEVENT
BEGIN:VEVENT
DTSTART;VALUE=DATE:20251005
DTEND;VALUE=DATE:20251007
DTSTAMP:20260423T185334
CREATED:20250929T040910Z
LAST-MODIFIED:20250929T040910Z
UID:6153-1759633200-1759719599@www.sarahruthalexander.com
SUMMARY:SarahRuth/TomCarter/NicoleSebesta/AgaZet w/ JohnAlanKennedy/JeremyNuncio/IvetteRoman-Roberto
DESCRIPTION:
URL:https://www.sarahruthalexander.com/event/sarahruth-tomcarter-nicolesebesta-agazet-w-johnalankennedy-jeremynuncio-ivetteroman-roberto
LOCATION:Houston\, TX @ ARChouse
END:VEVENT
BEGIN:VEVENT
DTSTART;VALUE=DATE:20250930
DTEND;VALUE=DATE:20251002
DTSTAMP:20260423T185334
CREATED:20250828T050307Z
LAST-MODIFIED:20250828T050307Z
UID:5881-1759201200-1759287599@www.sarahruthalexander.com
SUMMARY:Tiger D
DESCRIPTION:
URL:https://www.sarahruthalexander.com/event/tiger-d-399
LOCATION:8–10PM on 92.9FM\, Denton\, TX
END:VEVENT
BEGIN:VEVENT
DTSTART;VALUE=DATE:20250926
DTEND;VALUE=DATE:20250928
DTSTAMP:20260423T185334
CREATED:20250905T214518Z
LAST-MODIFIED:20250905T214540Z
UID:5982-1758855600-1758941999@www.sarahruthalexander.com
SUMMARY:Sarah Ruth @ COTFG: New Media Art & Sound Summit 2025
DESCRIPTION:
URL:https://www.sarahruthalexander.com/event/sarah-ruth-nmass-fest
LOCATION:Austin\, TX @ Museum of Human Achievement
END:VEVENT
BEGIN:VEVENT
DTSTART;VALUE=DATE:20250923
DTEND;VALUE=DATE:20250925
DTSTAMP:20260423T185334
CREATED:20250828T050258Z
LAST-MODIFIED:20250828T050258Z
UID:5880-1758596400-1758682799@www.sarahruthalexander.com
SUMMARY:Tiger D
DESCRIPTION:
URL:https://www.sarahruthalexander.com/event/tiger-d-398
LOCATION:8–10PM on 92.9FM\, Denton\, TX
END:VEVENT
BEGIN:VEVENT
DTSTART;VALUE=DATE:20250921
DTEND;VALUE=DATE:20250923
DTSTAMP:20260423T185334
CREATED:20250828T050202Z
LAST-MODIFIED:20250828T050202Z
UID:5876-1758423600-1758509999@www.sarahruthalexander.com
SUMMARY:Covergrrrl
DESCRIPTION:
URL:https://www.sarahruthalexander.com/event/covergrrrl-8
LOCATION:8–10PM on 92.9FM\, Denton\, TX
END:VEVENT
END:VCALENDAR