BEGIN:VCALENDAR
VERSION:2.0
PRODID:-//Sarah Ruth Alexander - ECPv6.15.20//NONSGML v1.0//EN
CALSCALE:GREGORIAN
METHOD:PUBLISH
X-WR-CALNAME:Sarah Ruth Alexander
X-ORIGINAL-URL:https://www.sarahruthalexander.com
X-WR-CALDESC:Events for Sarah Ruth Alexander
REFRESH-INTERVAL;VALUE=DURATION:PT1H
X-Robots-Tag:noindex
X-PUBLISHED-TTL:PT1H
BEGIN:VTIMEZONE
TZID:America/Chicago
BEGIN:DAYLIGHT
TZOFFSETFROM:-0600
TZOFFSETTO:-0500
TZNAME:CDT
DTSTART:20220313T080000
END:DAYLIGHT
BEGIN:STANDARD
TZOFFSETFROM:-0500
TZOFFSETTO:-0600
TZNAME:CST
DTSTART:20221106T070000
END:STANDARD
BEGIN:DAYLIGHT
TZOFFSETFROM:-0600
TZOFFSETTO:-0500
TZNAME:CDT
DTSTART:20230312T080000
END:DAYLIGHT
BEGIN:STANDARD
TZOFFSETFROM:-0500
TZOFFSETTO:-0600
TZNAME:CST
DTSTART:20231105T070000
END:STANDARD
BEGIN:DAYLIGHT
TZOFFSETFROM:-0600
TZOFFSETTO:-0500
TZNAME:CDT
DTSTART:20240310T080000
END:DAYLIGHT
BEGIN:STANDARD
TZOFFSETFROM:-0500
TZOFFSETTO:-0600
TZNAME:CST
DTSTART:20241103T070000
END:STANDARD
END:VTIMEZONE
BEGIN:VEVENT
DTSTART;VALUE=DATE:20230415
DTEND;VALUE=DATE:20230417
DTSTAMP:20260425T114602
CREATED:20230329T033022Z
LAST-MODIFIED:20230329T033441Z
UID:2686-1681527600-1681613999@www.sarahruthalexander.com
SUMMARY:Sounds Modern: Echo or Agent? The Mirror of Disembodied Sound
DESCRIPTION:
URL:https://www.sarahruthalexander.com/event/sounds-modern-echo-or-agent
LOCATION:Fort Worth\, TX @ The Modern Art Museum of Fort Worth
END:VEVENT
BEGIN:VEVENT
DTSTART;VALUE=DATE:20230412
DTEND;VALUE=DATE:20230414
DTSTAMP:20260425T114602
CREATED:20230329T032508Z
LAST-MODIFIED:20230404T194949Z
UID:2674-1681268400-1681354799@www.sarahruthalexander.com
SUMMARY:Molten Plains XI w/ SarahRuth/AaronGonzalez/LisaCameron\, WarrenRealrider/MateoGalindo & Ruptured Implant
DESCRIPTION:
URL:https://www.sarahruthalexander.com/event/molten-plains-xi
LOCATION:Denton\, TX @ Rubber Gloves
END:VEVENT
BEGIN:VEVENT
DTSTART;VALUE=DATE:20230411
DTEND;VALUE=DATE:20230413
DTSTAMP:20260425T114602
CREATED:20230329T032605Z
LAST-MODIFIED:20230329T032605Z
UID:2677-1681182000-1681268399@www.sarahruthalexander.com
SUMMARY:Tiger D
DESCRIPTION:
URL:https://www.sarahruthalexander.com/event/tiger-d-272
LOCATION:8–10PM on 92.9FM\, Denton\, TX
END:VEVENT
BEGIN:VEVENT
DTSTART;VALUE=DATE:20230404
DTEND;VALUE=DATE:20230406
DTSTAMP:20260425T114602
CREATED:20230329T032557Z
LAST-MODIFIED:20230329T032557Z
UID:2676-1680577200-1680663599@www.sarahruthalexander.com
SUMMARY:Tiger D
DESCRIPTION:
URL:https://www.sarahruthalexander.com/event/tiger-d-271
LOCATION:8–10PM on 92.9FM\, Denton\, TX
END:VEVENT
BEGIN:VEVENT
DTSTART;VALUE=DATE:20230401
DTEND;VALUE=DATE:20230403
DTSTAMP:20260425T114602
CREATED:20230329T032306Z
LAST-MODIFIED:20230329T032306Z
UID:2669-1680318000-1680404399@www.sarahruthalexander.com
SUMMARY:Deep Listening Workshop
DESCRIPTION:
URL:https://www.sarahruthalexander.com/event/deep-listening-workshop-2
LOCATION:Dallas\, TX @ Oil and Cotton
END:VEVENT
BEGIN:VEVENT
DTSTART;VALUE=DATE:20230328
DTEND;VALUE=DATE:20230330
DTSTAMP:20260425T114602
CREATED:20230301T220103Z
LAST-MODIFIED:20230301T220103Z
UID:2647-1679972400-1680058799@www.sarahruthalexander.com
SUMMARY:Tiger D
DESCRIPTION:
URL:https://www.sarahruthalexander.com/event/tiger-d-270
LOCATION:8–10PM on 92.9FM\, Denton\, TX
END:VEVENT
BEGIN:VEVENT
DTSTART;VALUE=DATE:20230322
DTEND;VALUE=DATE:20230324
DTSTAMP:20260425T114602
CREATED:20230304T204515Z
LAST-MODIFIED:20230310T093731Z
UID:2652-1679454000-1679540399@www.sarahruthalexander.com
SUMMARY:Molten Plains X w/ Torches Mauves\, Nova Ensemble\, & LouiseFristensky/MichaelMeadows/SarahJay
DESCRIPTION:
URL:https://www.sarahruthalexander.com/event/molten-plains-x
LOCATION:Denton\, TX @ Rubber Gloves
END:VEVENT
BEGIN:VEVENT
DTSTART;VALUE=DATE:20230321
DTEND;VALUE=DATE:20230323
DTSTAMP:20260425T114602
CREATED:20230301T220057Z
LAST-MODIFIED:20230301T220057Z
UID:2646-1679367600-1679453999@www.sarahruthalexander.com
SUMMARY:Tiger D
DESCRIPTION:
URL:https://www.sarahruthalexander.com/event/tiger-d-269
LOCATION:8–10PM on 92.9FM\, Denton\, TX
END:VEVENT
BEGIN:VEVENT
DTSTART;VALUE=DATE:20230319
DTEND;VALUE=DATE:20230321
DTSTAMP:20260425T114602
CREATED:20230221T053650Z
LAST-MODIFIED:20230329T032905Z
UID:2634-1679194800-1679281199@www.sarahruthalexander.com
SUMMARY:In Praise of Dennis Gonzalez Rebroadcast from 2022-03-20
DESCRIPTION:
URL:https://www.sarahruthalexander.com/event/in-praise-of-dennis-rebroadcast-20230319
LOCATION:8–10PM on 92.9FM\, Denton\, TX
END:VEVENT
BEGIN:VEVENT
DTSTART;VALUE=DATE:20230317
DTEND;VALUE=DATE:20230319
DTSTAMP:20260425T114602
CREATED:20230313T201743Z
LAST-MODIFIED:20230314T060829Z
UID:2656-1679022000-1679108399@www.sarahruthalexander.com
SUMMARY:SarahRuth/AaronGonzalez/ErnestoMontiel @ Mekong Underground Spring Avant-Garde Fest w/ SandyEwen/LisaCameron\, Enemy Goddess\, Former Spouses & GabrielMartinez/JustinJones
DESCRIPTION:
URL:https://www.sarahruthalexander.com/event/sarahruth-aarongonzalez-ernestomontiel-w-sandyewen-lisacameron-enemy-goddess-former-spouses-gabrielmartinez-justinjones
LOCATION:Houston\, TX @ Kohn’s beer.wine.art
END:VEVENT
BEGIN:VEVENT
DTSTART;VALUE=DATE:20230314
DTEND;VALUE=DATE:20230316
DTSTAMP:20260425T114602
CREATED:20230301T220052Z
LAST-MODIFIED:20230301T220052Z
UID:2645-1678762800-1678849199@www.sarahruthalexander.com
SUMMARY:Tiger D
DESCRIPTION:
URL:https://www.sarahruthalexander.com/event/tiger-d-268
LOCATION:8–10PM on 92.9FM\, Denton\, TX
END:VEVENT
BEGIN:VEVENT
DTSTART;VALUE=DATE:20230307
DTEND;VALUE=DATE:20230309
DTSTAMP:20260425T114602
CREATED:20230301T220047Z
LAST-MODIFIED:20230301T220047Z
UID:2644-1678158000-1678244399@www.sarahruthalexander.com
SUMMARY:Tiger D
DESCRIPTION:
URL:https://www.sarahruthalexander.com/event/tiger-d-267
LOCATION:8–10PM on 92.9FM\, Denton\, TX
END:VEVENT
BEGIN:VEVENT
DTSTART;VALUE=DATE:20230228
DTEND;VALUE=DATE:20230302
DTSTAMP:20260425T114602
CREATED:20230201T024727Z
LAST-MODIFIED:20230201T024727Z
UID:2620-1677553200-1677639599@www.sarahruthalexander.com
SUMMARY:Tiger D
DESCRIPTION:
URL:https://www.sarahruthalexander.com/event/tiger-d-266
LOCATION:8–10PM on 92.9FM\, Denton\, TX
END:VEVENT
BEGIN:VEVENT
DTSTART;VALUE=DATE:20230225
DTEND;VALUE=DATE:20230227
DTSTAMP:20260425T114602
CREATED:20230109T062626Z
LAST-MODIFIED:20230109T062626Z
UID:2576-1677294000-1677380399@www.sarahruthalexander.com
SUMMARY:Sarah Ruth w/ Chris Welch & Clint Niosi
DESCRIPTION:
URL:https://www.sarahruthalexander.com/event/sarah-ruth-w-chris-welch-clint-niosi
LOCATION:Denton\, TX @ Rubber Gloves
END:VEVENT
BEGIN:VEVENT
DTSTART;VALUE=DATE:20230222
DTEND;VALUE=DATE:20230224
DTSTAMP:20260425T114602
CREATED:20230201T024528Z
LAST-MODIFIED:20230204T205920Z
UID:2614-1677034800-1677121199@www.sarahruthalexander.com
SUMMARY:Sarah Ruth w/ Chris Welch & Clint Niosi
DESCRIPTION:
URL:https://www.sarahruthalexander.com/event/sarah-ruth-w-chris-welch-clint-niosi-2
LOCATION:Fort Worth\, TX @ The Boiled Owl Tavern
END:VEVENT
BEGIN:VEVENT
DTSTART;VALUE=DATE:20230221
DTEND;VALUE=DATE:20230223
DTSTAMP:20260425T114602
CREATED:20230201T024717Z
LAST-MODIFIED:20230221T053733Z
UID:2619-1676948400-1677034799@www.sarahruthalexander.com
SUMMARY:Tiger D w/ guest Daron Beck
DESCRIPTION:
URL:https://www.sarahruthalexander.com/event/tiger-d-265
LOCATION:8–10PM on 92.9FM\, Denton\, TX
END:VEVENT
BEGIN:VEVENT
DTSTART;VALUE=DATE:20230219
DTEND;VALUE=DATE:20230221
DTSTAMP:20260425T114602
CREATED:20230116T200029Z
LAST-MODIFIED:20230116T200029Z
UID:2599-1676775600-1676861999@www.sarahruthalexander.com
SUMMARY:In Praise of Covers 19
DESCRIPTION:
URL:https://www.sarahruthalexander.com/event/in-praise-of-covers-19
LOCATION:8–10PM on 92.9FM\, Denton\, TX
END:VEVENT
BEGIN:VEVENT
DTSTART;VALUE=DATE:20230215
DTEND;VALUE=DATE:20230217
DTSTAMP:20260425T114602
CREATED:20230202T185652Z
LAST-MODIFIED:20230221T053812Z
UID:2627-1676430000-1676516399@www.sarahruthalexander.com
SUMMARY:Molten Plains IX: HalLambert+MitchellMobley & AtlasMaior+StefanGonzalez & ReivinAlexandria+RosemaryCandelario
DESCRIPTION:
URL:https://www.sarahruthalexander.com/event/molten-plains-ix-hallambertmitchellmobley-atlasmaiorstefangonzalez-reivinalexandriarosemarycandelario
LOCATION:Denton\, TX @ Rubber Gloves
END:VEVENT
BEGIN:VEVENT
DTSTART;VALUE=DATE:20230214
DTEND;VALUE=DATE:20230216
DTSTAMP:20260425T114602
CREATED:20230201T024707Z
LAST-MODIFIED:20230201T033515Z
UID:2618-1676343600-1676429999@www.sarahruthalexander.com
SUMMARY:Tiger D w/ guest host Stephen Lucas
DESCRIPTION:
URL:https://www.sarahruthalexander.com/event/tiger-d-264
LOCATION:8–10PM on 92.9FM\, Denton\, TX
END:VEVENT
BEGIN:VEVENT
DTSTART;VALUE=DATE:20230211
DTEND;VALUE=DATE:20230213
DTSTAMP:20260425T114602
CREATED:20230119T225552Z
LAST-MODIFIED:20230120T015213Z
UID:2604-1676084400-1676170799@www.sarahruthalexander.com
SUMMARY:Bitches Set Traps w/ DaveDove/KoryReeder/ConnerSimmons\, Courtney Marie\, Suzanne Terry\, and Aaron Gonzalez
DESCRIPTION:
URL:https://www.sarahruthalexander.com/event/bitches-set-traps-w-davedove-koryreeder-connersimmons-courtney-marie-suzanne-terry-and-aaron-gonzalez
LOCATION:Dallas\, TX @ Deep Vellum
END:VEVENT
BEGIN:VEVENT
DTSTART;VALUE=DATE:20230207
DTEND;VALUE=DATE:20230209
DTSTAMP:20260425T114602
CREATED:20230201T024657Z
LAST-MODIFIED:20230201T024657Z
UID:2617-1675738800-1675825199@www.sarahruthalexander.com
SUMMARY:Tiger D
DESCRIPTION:
URL:https://www.sarahruthalexander.com/event/tiger-d-263
LOCATION:8–10PM on 92.9FM\, Denton\, TX
END:VEVENT
BEGIN:VEVENT
DTSTART;VALUE=DATE:20230131
DTEND;VALUE=DATE:20230202
DTSTAMP:20260425T114602
CREATED:20230104T093016Z
LAST-MODIFIED:20230201T024255Z
UID:2566-1675134000-1675220399@www.sarahruthalexander.com
SUMMARY:Tiger D Rerun from 2021/03/02 w/ guest Daron Beck
DESCRIPTION:
URL:https://www.sarahruthalexander.com/event/tiger-d-262
LOCATION:8–10PM on 92.9FM\, Denton\, TX
END:VEVENT
BEGIN:VEVENT
DTSTART;VALUE=DATE:20230128
DTEND;VALUE=DATE:20230130
DTSTAMP:20260425T114602
CREATED:20230116T204606Z
LAST-MODIFIED:20230116T204606Z
UID:2601-1674874800-1674961199@www.sarahruthalexander.com
SUMMARY:SarahRuth/JoshuaMiller w/ JackWright/RonStabinsky & Aaron Gonzalez
DESCRIPTION:
URL:https://www.sarahruthalexander.com/event/sarahruth-joshuamiller-w-jackwright-ronstabinsky-aaron-gonzalez
LOCATION:Fort Worth\, TX @ The Grackle Art Gallery
END:VEVENT
BEGIN:VEVENT
DTSTART;VALUE=DATE:20230125
DTEND;VALUE=DATE:20230127
DTSTAMP:20260425T114602
CREATED:20230107T203533Z
LAST-MODIFIED:20230107T203533Z
UID:2573-1674615600-1674701999@www.sarahruthalexander.com
SUMMARY:Molten Plains VIII: Improv Lotto
DESCRIPTION:
URL:https://www.sarahruthalexander.com/event/molten-plains-viii-improv-lotto
LOCATION:Denton\, TX @ Rubber Gloves
END:VEVENT
BEGIN:VEVENT
DTSTART;VALUE=DATE:20230124
DTEND;VALUE=DATE:20230126
DTSTAMP:20260425T114602
CREATED:20230104T093012Z
LAST-MODIFIED:20230104T093012Z
UID:2565-1674529200-1674615599@www.sarahruthalexander.com
SUMMARY:Tiger D
DESCRIPTION:
URL:https://www.sarahruthalexander.com/event/tiger-d-261
LOCATION:8–10PM on 92.9FM\, Denton\, TX
END:VEVENT
BEGIN:VEVENT
DTSTART;VALUE=DATE:20230117
DTEND;VALUE=DATE:20230119
DTSTAMP:20260425T114602
CREATED:20230104T093009Z
LAST-MODIFIED:20230104T093009Z
UID:2564-1673924400-1674010799@www.sarahruthalexander.com
SUMMARY:Tiger D
DESCRIPTION:
URL:https://www.sarahruthalexander.com/event/tiger-d-260
LOCATION:8–10PM on 92.9FM\, Denton\, TX
END:VEVENT
BEGIN:VEVENT
DTSTART;VALUE=DATE:20230115
DTEND;VALUE=DATE:20230117
DTSTAMP:20260425T114602
CREATED:20230104T092855Z
LAST-MODIFIED:20230104T092855Z
UID:2559-1673751600-1673837999@www.sarahruthalexander.com
SUMMARY:In Praise of Covers 18
DESCRIPTION:
URL:https://www.sarahruthalexander.com/event/in-praise-of-covers-18
LOCATION:8–10PM on 92.9FM\, Denton\, TX
END:VEVENT
BEGIN:VEVENT
DTSTART;VALUE=DATE:20230113
DTEND;VALUE=DATE:20230221
DTSTAMP:20260425T114602
CREATED:20230325T195802Z
LAST-MODIFIED:20230325T195802Z
UID:2663-1673578800-1676861999@www.sarahruthalexander.com
SUMMARY:Post-Score Gallery Exhibition of Graphic Scores
DESCRIPTION:
URL:https://www.sarahruthalexander.com/event/post-score-gallery-exhibition-of-graphic-scores
LOCATION:Lubbock\, TX @ CO-OPt Research + Projects
END:VEVENT
BEGIN:VEVENT
DTSTART;VALUE=DATE:20230110
DTEND;VALUE=DATE:20230112
DTSTAMP:20260425T114602
CREATED:20230104T093005Z
LAST-MODIFIED:20230104T093005Z
UID:2563-1673319600-1673405999@www.sarahruthalexander.com
SUMMARY:Tiger D
DESCRIPTION:
URL:https://www.sarahruthalexander.com/event/tiger-d-259
LOCATION:8–10PM on 92.9FM\, Denton\, TX
END:VEVENT
BEGIN:VEVENT
DTSTART;VALUE=DATE:20230107
DTEND;VALUE=DATE:20230109
DTSTAMP:20260425T114602
CREATED:20230419T180542Z
LAST-MODIFIED:20230419T180542Z
UID:2710-1673060400-1673146799@www.sarahruthalexander.com
SUMMARY:Sarah Ruth on No Wave #70
DESCRIPTION:
URL:https://www.sarahruthalexander.com/event/sarah-ruth-on-no-wave-70
LOCATION:Rio Grande do Sul\, Brazil @ Mutante Radio
END:VEVENT
END:VCALENDAR