BEGIN:VCALENDAR
VERSION:2.0
PRODID:-//Sarah Ruth Alexander - ECPv6.15.20//NONSGML v1.0//EN
CALSCALE:GREGORIAN
METHOD:PUBLISH
X-WR-CALNAME:Sarah Ruth Alexander
X-ORIGINAL-URL:https://www.sarahruthalexander.com
X-WR-CALDESC:Events for Sarah Ruth Alexander
REFRESH-INTERVAL;VALUE=DURATION:PT1H
X-Robots-Tag:noindex
X-PUBLISHED-TTL:PT1H
BEGIN:VTIMEZONE
TZID:America/Chicago
BEGIN:DAYLIGHT
TZOFFSETFROM:-0600
TZOFFSETTO:-0500
TZNAME:CDT
DTSTART:20220313T080000
END:DAYLIGHT
BEGIN:STANDARD
TZOFFSETFROM:-0500
TZOFFSETTO:-0600
TZNAME:CST
DTSTART:20221106T070000
END:STANDARD
BEGIN:DAYLIGHT
TZOFFSETFROM:-0600
TZOFFSETTO:-0500
TZNAME:CDT
DTSTART:20230312T080000
END:DAYLIGHT
BEGIN:STANDARD
TZOFFSETFROM:-0500
TZOFFSETTO:-0600
TZNAME:CST
DTSTART:20231105T070000
END:STANDARD
BEGIN:DAYLIGHT
TZOFFSETFROM:-0600
TZOFFSETTO:-0500
TZNAME:CDT
DTSTART:20240310T080000
END:DAYLIGHT
BEGIN:STANDARD
TZOFFSETFROM:-0500
TZOFFSETTO:-0600
TZNAME:CST
DTSTART:20241103T070000
END:STANDARD
END:VTIMEZONE
BEGIN:VEVENT
DTSTART;VALUE=DATE:20230920
DTEND;VALUE=DATE:20230922
DTSTAMP:20260425T060711
CREATED:20230911T023801Z
LAST-MODIFIED:20230911T023801Z
UID:2996-1695178800-1695265199@www.sarahruthalexander.com
SUMMARY:Molten Plains XVI w/ Granular Breath\, SarahJay/LoRamirez/ChristopherRobinson\, & KoryReeder/DanielRyan
DESCRIPTION:
URL:https://www.sarahruthalexander.com/event/molten-plains-xvi-w-granular-breath-sarahjay-loramirez-christopherrobinson-koryreeder-danielryan
LOCATION:Denton\, TX @ Rubber Gloves
END:VEVENT
BEGIN:VEVENT
DTSTART;VALUE=DATE:20230919
DTEND;VALUE=DATE:20230921
DTSTAMP:20260425T060711
CREATED:20230911T023600Z
LAST-MODIFIED:20230911T023600Z
UID:2990-1695092400-1695178799@www.sarahruthalexander.com
SUMMARY:Tiger D
DESCRIPTION:
URL:https://www.sarahruthalexander.com/event/tiger-d-295
LOCATION:8–10PM on 92.9FM\, Denton\, TX
END:VEVENT
BEGIN:VEVENT
DTSTART;VALUE=DATE:20230917
DTEND;VALUE=DATE:20230919
DTSTAMP:20260425T060711
CREATED:20230911T024113Z
LAST-MODIFIED:20230911T024113Z
UID:3001-1694919600-1695005999@www.sarahruthalexander.com
SUMMARY:In Praise of Covers 25
DESCRIPTION:
URL:https://www.sarahruthalexander.com/event/in-praise-of-covers-25
LOCATION:8–10PM on 92.9FM\, Denton\, TX
END:VEVENT
BEGIN:VEVENT
DTSTART;VALUE=DATE:20230913
DTEND;VALUE=DATE:20230915
DTSTAMP:20260425T060711
CREATED:20230917T015339Z
LAST-MODIFIED:20230917T015339Z
UID:3004-1694574000-1694660399@www.sarahruthalexander.com
SUMMARY:Sarah Ruth & Princess Haultaine III w/ LydiaLunch/KevinShea: Sinister Impulse\, Puerta Negra\, Livernois\, & Injured
DESCRIPTION:
URL:https://www.sarahruthalexander.com/event/sarah-ruth-princess-haultaine-iii-w-lydialunch-kevinshea-sinister-impulse-puerta-negra-livernois-injured
LOCATION:Denton\, TX @ Rubber Gloves
END:VEVENT
BEGIN:VEVENT
DTSTART;VALUE=DATE:20230912
DTEND;VALUE=DATE:20230914
DTSTAMP:20260425T060711
CREATED:20230911T023551Z
LAST-MODIFIED:20230911T023551Z
UID:2989-1694487600-1694573999@www.sarahruthalexander.com
SUMMARY:Tiger D
DESCRIPTION:
URL:https://www.sarahruthalexander.com/event/tiger-d-294
LOCATION:8–10PM on 92.9FM\, Denton\, TX
END:VEVENT
BEGIN:VEVENT
DTSTART;VALUE=DATE:20230906
DTEND;VALUE=DATE:20230908
DTSTAMP:20260425T060711
CREATED:20230804T085817Z
LAST-MODIFIED:20230804T085817Z
UID:2970-1693969200-1694055599@www.sarahruthalexander.com
SUMMARY:Sarah Ruth @ Freak Establishment Album Release Show w/ Familiar\, & The Witness
DESCRIPTION:
URL:https://www.sarahruthalexander.com/event/sarah-ruth-freak-establishment-album-release-show-w-familiar-the-witness
LOCATION:Denton\, TX @ Rubber Gloves
END:VEVENT
BEGIN:VEVENT
DTSTART;VALUE=DATE:20230905
DTEND;VALUE=DATE:20230907
DTSTAMP:20260425T060711
CREATED:20230911T023543Z
LAST-MODIFIED:20230911T023543Z
UID:2988-1693882800-1693969199@www.sarahruthalexander.com
SUMMARY:Tiger D
DESCRIPTION:
URL:https://www.sarahruthalexander.com/event/tiger-d-293
LOCATION:8–10PM on 92.9FM\, Denton\, TX
END:VEVENT
BEGIN:VEVENT
DTSTART;VALUE=DATE:20230830
DTEND;VALUE=DATE:20230901
DTSTAMP:20260425T060711
CREATED:20230804T085646Z
LAST-MODIFIED:20230804T085646Z
UID:2968-1693364400-1693450799@www.sarahruthalexander.com
SUMMARY:SarahRuth/DanClucas/MonteEspina w/ Breaking Light
DESCRIPTION:
URL:https://www.sarahruthalexander.com/event/sarahruth-danclucas-monteespina-w-breaking-light
LOCATION:Dallas\, TX @ The Wild Detectives
END:VEVENT
BEGIN:VEVENT
DTSTART;VALUE=DATE:20230829
DTEND;VALUE=DATE:20230831
DTSTAMP:20260425T060711
CREATED:20230728T044833Z
LAST-MODIFIED:20230911T023457Z
UID:2953-1693278000-1693364399@www.sarahruthalexander.com
SUMMARY:Tiger D w/ guests Dan Clucas and Monte Espina
DESCRIPTION:
URL:https://www.sarahruthalexander.com/event/tiger-d-292
LOCATION:8–10PM on 92.9FM\, Denton\, TX
END:VEVENT
BEGIN:VEVENT
DTSTART;VALUE=DATE:20230822
DTEND;VALUE=DATE:20230824
DTSTAMP:20260425T060711
CREATED:20230728T044823Z
LAST-MODIFIED:20230728T044823Z
UID:2952-1692673200-1692759599@www.sarahruthalexander.com
SUMMARY:Tiger D
DESCRIPTION:
URL:https://www.sarahruthalexander.com/event/tiger-d-291
LOCATION:8–10PM on 92.9FM\, Denton\, TX
END:VEVENT
BEGIN:VEVENT
DTSTART;VALUE=DATE:20230820
DTEND;VALUE=DATE:20230822
DTSTAMP:20260425T060711
CREATED:20230728T044921Z
LAST-MODIFIED:20230728T044921Z
UID:2959-1692500400-1692586799@www.sarahruthalexander.com
SUMMARY:In Praise of Covers 24
DESCRIPTION:
URL:https://www.sarahruthalexander.com/event/in-praise-of-covers-24
LOCATION:8–10PM on 92.9FM\, Denton\, TX
END:VEVENT
BEGIN:VEVENT
DTSTART;VALUE=DATE:20230816
DTEND;VALUE=DATE:20230818
DTSTAMP:20260425T060711
CREATED:20230730T083905Z
LAST-MODIFIED:20230730T083905Z
UID:2963-1692154800-1692241199@www.sarahruthalexander.com
SUMMARY:Molten Plains XV w/ ErinDemastes/DylanBurchett\, Post-Trance Tea Ceremony\, DannyKamins/JamisonWilliams/StefanGonzalez\, & PatrickMichot/AbbasKhorsani
DESCRIPTION:
URL:https://www.sarahruthalexander.com/event/molten-plains-xv-w-erindemastes-dylanburchett-post-trance-tea-ceremony-dannykamins-jamisonwilliams-stefangonzalez-patrickmichot-abbaskhorsani
LOCATION:Denton\, TX @ Rubber Gloves
END:VEVENT
BEGIN:VEVENT
DTSTART;VALUE=DATE:20230815
DTEND;VALUE=DATE:20230817
DTSTAMP:20260425T060711
CREATED:20230728T044812Z
LAST-MODIFIED:20230815T213850Z
UID:2951-1692068400-1692154799@www.sarahruthalexander.com
SUMMARY:Tiger D w/ guests Cathy\, Carl\, Frendal and Joan
DESCRIPTION:
URL:https://www.sarahruthalexander.com/event/tiger-d-290
LOCATION:8–10PM on 92.9FM\, Denton\, TX
END:VEVENT
BEGIN:VEVENT
DTSTART;VALUE=DATE:20230808
DTEND;VALUE=DATE:20230810
DTSTAMP:20260425T060711
CREATED:20230728T044802Z
LAST-MODIFIED:20230808T225528Z
UID:2950-1691463600-1691549999@www.sarahruthalexander.com
SUMMARY:Tiger D w/ guests Daron Beck and Mikey Sweetz
DESCRIPTION:
URL:https://www.sarahruthalexander.com/event/tiger-d-289
LOCATION:8–10PM on 92.9FM\, Denton\, TX
END:VEVENT
BEGIN:VEVENT
DTSTART;VALUE=DATE:20230801
DTEND;VALUE=DATE:20230803
DTSTAMP:20260425T060711
CREATED:20230728T044752Z
LAST-MODIFIED:20230728T044752Z
UID:2949-1690858800-1690945199@www.sarahruthalexander.com
SUMMARY:Tiger D
DESCRIPTION:
URL:https://www.sarahruthalexander.com/event/tiger-d-288
LOCATION:8–10PM on 92.9FM\, Denton\, TX
END:VEVENT
BEGIN:VEVENT
DTSTART;VALUE=DATE:20230729
DTEND;VALUE=DATE:20230731
DTSTAMP:20260425T060711
CREATED:20230616T044256Z
LAST-MODIFIED:20230616T044256Z
UID:2916-1690599600-1690685999@www.sarahruthalexander.com
SUMMARY:Bitches Set Traps @ New Media Art & Sound Summit
DESCRIPTION:
URL:https://www.sarahruthalexander.com/event/bitches-set-traps-new-media-art-sound-summit
LOCATION:Austin\, TX @ Ground Floor Theatre
END:VEVENT
BEGIN:VEVENT
DTSTART;VALUE=DATE:20230726
DTEND;VALUE=DATE:20230728
DTSTAMP:20260425T060711
CREATED:20230602T061706Z
LAST-MODIFIED:20230602T061706Z
UID:2889-1690340400-1690426799@www.sarahruthalexander.com
SUMMARY:Bitches Set Traps w/ blendways\, Venetian Video Cats From Venus\, & jacobbissell
DESCRIPTION:
URL:https://www.sarahruthalexander.com/event/bitches-set-traps-w-blendways-venetian-video-cats-from-venus-jacobbissell
LOCATION:Denton\, TX @ Rubber Gloves
END:VEVENT
BEGIN:VEVENT
DTSTART;VALUE=DATE:20230725
DTEND;VALUE=DATE:20230727
DTSTAMP:20260425T060711
CREATED:20230704T002846Z
LAST-MODIFIED:20230704T002846Z
UID:2932-1690254000-1690340399@www.sarahruthalexander.com
SUMMARY:Tiger D
DESCRIPTION:
URL:https://www.sarahruthalexander.com/event/tiger-d-287
LOCATION:8–10PM on 92.9FM\, Denton\, TX
END:VEVENT
BEGIN:VEVENT
DTSTART;VALUE=DATE:20230719
DTEND;VALUE=DATE:20230721
DTSTAMP:20260425T060711
CREATED:20230706T032712Z
LAST-MODIFIED:20230706T032712Z
UID:2939-1689735600-1689821999@www.sarahruthalexander.com
SUMMARY:Molten Plains XIV: Improv Lotto
DESCRIPTION:
URL:https://www.sarahruthalexander.com/event/molten-plains-xiv-improv-lotto
LOCATION:Denton\, TX @ Rubber Gloves
END:VEVENT
BEGIN:VEVENT
DTSTART;VALUE=DATE:20230718
DTEND;VALUE=DATE:20230720
DTSTAMP:20260425T060711
CREATED:20230704T002837Z
LAST-MODIFIED:20230704T002837Z
UID:2931-1689649200-1689735599@www.sarahruthalexander.com
SUMMARY:Tiger D
DESCRIPTION:
URL:https://www.sarahruthalexander.com/event/tiger-d-286
LOCATION:8–10PM on 92.9FM\, Denton\, TX
END:VEVENT
BEGIN:VEVENT
DTSTART;VALUE=DATE:20230716
DTEND;VALUE=DATE:20230718
DTSTAMP:20260425T060711
CREATED:20230704T002738Z
LAST-MODIFIED:20230704T002738Z
UID:2927-1689476400-1689562799@www.sarahruthalexander.com
SUMMARY:In Praise of Covers 23
DESCRIPTION:
URL:https://www.sarahruthalexander.com/event/in-praise-of-covers-23
LOCATION:8–10PM on 92.9FM\, Denton\, TX
END:VEVENT
BEGIN:VEVENT
DTSTART;VALUE=DATE:20230711
DTEND;VALUE=DATE:20230713
DTSTAMP:20260425T060711
CREATED:20230704T002829Z
LAST-MODIFIED:20230704T002829Z
UID:2930-1689044400-1689130799@www.sarahruthalexander.com
SUMMARY:Tiger D
DESCRIPTION:
URL:https://www.sarahruthalexander.com/event/tiger-d-285
LOCATION:8–10PM on 92.9FM\, Denton\, TX
END:VEVENT
BEGIN:VEVENT
DTSTART;VALUE=DATE:20230704
DTEND;VALUE=DATE:20230706
DTSTAMP:20260425T060711
CREATED:20230704T002817Z
LAST-MODIFIED:20230704T002817Z
UID:2929-1688439600-1688525999@www.sarahruthalexander.com
SUMMARY:Tiger D
DESCRIPTION:
URL:https://www.sarahruthalexander.com/event/tiger-d-284
LOCATION:8–10PM on 92.9FM\, Denton\, TX
END:VEVENT
BEGIN:VEVENT
DTSTART;VALUE=DATE:20230701
DTEND;VALUE=DATE:20230703
DTSTAMP:20260425T060711
CREATED:20230615T183646Z
LAST-MODIFIED:20230627T201543Z
UID:2913-1688180400-1688266799@www.sarahruthalexander.com
SUMMARY:Bitches Set Traps w/ DJ Calle
DESCRIPTION:
URL:https://www.sarahruthalexander.com/event/bitches-set-traps-6
LOCATION:Marfa\, TX @ StarbucksMarfa
END:VEVENT
BEGIN:VEVENT
DTSTART;VALUE=DATE:20230630
DTEND;VALUE=DATE:20230702
DTSTAMP:20260425T060711
CREATED:20230615T183624Z
LAST-MODIFIED:20230627T201305Z
UID:2910-1688094000-1688180399@www.sarahruthalexander.com
SUMMARY:Bitches Set Traps
DESCRIPTION:
URL:https://www.sarahruthalexander.com/event/bitches-set-traps-5
LOCATION:Lubbock\, TX @ CO-OPt Research + Projects
END:VEVENT
BEGIN:VEVENT
DTSTART;VALUE=DATE:20230627
DTEND;VALUE=DATE:20230629
DTSTAMP:20260425T060711
CREATED:20230602T062704Z
LAST-MODIFIED:20230602T062704Z
UID:2894-1687834800-1687921199@www.sarahruthalexander.com
SUMMARY:Tiger D
DESCRIPTION:
URL:https://www.sarahruthalexander.com/event/tiger-d-283
LOCATION:8–10PM on 92.9FM\, Denton\, TX
END:VEVENT
BEGIN:VEVENT
DTSTART;VALUE=DATE:20230626
DTEND;VALUE=DATE:20230628
DTSTAMP:20260425T060711
CREATED:20230602T201010Z
LAST-MODIFIED:20230603T060642Z
UID:2899-1687748400-1687834799@www.sarahruthalexander.com
SUMMARY:SarahRuth/AaronGonzalez/ErnestoMontiel w/ Devin Gray\, & JoshuaMiller/MatthewFrerck/StefanGonzalez
DESCRIPTION:
URL:https://www.sarahruthalexander.com/event/sarahruth-aarongonzalez-ernestomontiel-w-devin-gray-joshuamiller-matthewfrerck-stefangonzalez
LOCATION:Denton\, TX @ Rubber Gloves
END:VEVENT
BEGIN:VEVENT
DTSTART;VALUE=DATE:20230621
DTEND;VALUE=DATE:20230623
DTSTAMP:20260425T060711
CREATED:20230527T054733Z
LAST-MODIFIED:20230612T173549Z
UID:2887-1687316400-1687402799@www.sarahruthalexander.com
SUMMARY:Molten Plains XIII w/ Los Primis Horneados\, KoryReeder/ConnorSimmons\, & BAKA
DESCRIPTION:
URL:https://www.sarahruthalexander.com/event/molten-plains-xiii
LOCATION:Denton\, TX @ Rubber Gloves
END:VEVENT
BEGIN:VEVENT
DTSTART;VALUE=DATE:20230620
DTEND;VALUE=DATE:20230622
DTSTAMP:20260425T060711
CREATED:20230602T062701Z
LAST-MODIFIED:20230602T062701Z
UID:2893-1687230000-1687316399@www.sarahruthalexander.com
SUMMARY:Tiger D
DESCRIPTION:
URL:https://www.sarahruthalexander.com/event/tiger-d-282
LOCATION:8–10PM on 92.9FM\, Denton\, TX
END:VEVENT
BEGIN:VEVENT
DTSTART;VALUE=DATE:20230618
DTEND;VALUE=DATE:20230620
DTSTAMP:20260425T060711
CREATED:20230527T054640Z
LAST-MODIFIED:20230527T054640Z
UID:2885-1687057200-1687143599@www.sarahruthalexander.com
SUMMARY:In Praise of Covers 22
DESCRIPTION:
URL:https://www.sarahruthalexander.com/event/in-praise-of-covers-22
LOCATION:8–10PM on 92.9FM\, Denton\, TX
END:VEVENT
END:VCALENDAR