BEGIN:VCALENDAR
VERSION:2.0
PRODID:-//Sarah Ruth Alexander - ECPv6.15.20//NONSGML v1.0//EN
CALSCALE:GREGORIAN
METHOD:PUBLISH
X-WR-CALNAME:Sarah Ruth Alexander
X-ORIGINAL-URL:https://www.sarahruthalexander.com
X-WR-CALDESC:Events for Sarah Ruth Alexander
REFRESH-INTERVAL;VALUE=DURATION:PT1H
X-Robots-Tag:noindex
X-PUBLISHED-TTL:PT1H
BEGIN:VTIMEZONE
TZID:America/Chicago
BEGIN:DAYLIGHT
TZOFFSETFROM:-0600
TZOFFSETTO:-0500
TZNAME:CDT
DTSTART:20230312T080000
END:DAYLIGHT
BEGIN:STANDARD
TZOFFSETFROM:-0500
TZOFFSETTO:-0600
TZNAME:CST
DTSTART:20231105T070000
END:STANDARD
BEGIN:DAYLIGHT
TZOFFSETFROM:-0600
TZOFFSETTO:-0500
TZNAME:CDT
DTSTART:20240310T080000
END:DAYLIGHT
BEGIN:STANDARD
TZOFFSETFROM:-0500
TZOFFSETTO:-0600
TZNAME:CST
DTSTART:20241103T070000
END:STANDARD
BEGIN:DAYLIGHT
TZOFFSETFROM:-0600
TZOFFSETTO:-0500
TZNAME:CDT
DTSTART:20250309T080000
END:DAYLIGHT
BEGIN:STANDARD
TZOFFSETFROM:-0500
TZOFFSETTO:-0600
TZNAME:CST
DTSTART:20251102T070000
END:STANDARD
END:VTIMEZONE
BEGIN:VEVENT
DTSTART;VALUE=DATE:20240917
DTEND;VALUE=DATE:20240919
DTSTAMP:20260425T053844
CREATED:20240825T015438Z
LAST-MODIFIED:20240825T015438Z
UID:3657-1726542000-1726628399@www.sarahruthalexander.com
SUMMARY:Tiger D
DESCRIPTION:
URL:https://www.sarahruthalexander.com/event/tiger-d-347
LOCATION:8–10PM on 92.9FM\, Denton\, TX
END:VEVENT
BEGIN:VEVENT
DTSTART;VALUE=DATE:20240915
DTEND;VALUE=DATE:20240917
DTSTAMP:20260425T053844
CREATED:20240825T015301Z
LAST-MODIFIED:20241023T055244Z
UID:3651-1726369200-1726455599@www.sarahruthalexander.com
SUMMARY:In Praise of Covers 33 Rerun from 2024/06/16 w/ guest Daron Beck
DESCRIPTION:
URL:https://www.sarahruthalexander.com/event/in-praise-of-covers-33-rerun-20240815
LOCATION:8–10PM on 92.9FM\, Denton\, TX
END:VEVENT
BEGIN:VEVENT
DTSTART;VALUE=DATE:20240914
DTEND;VALUE=DATE:20240916
DTSTAMP:20260425T053844
CREATED:20240913T203656Z
LAST-MODIFIED:20240913T203656Z
UID:3689-1726282800-1726369199@www.sarahruthalexander.com
SUMMARY:Sarah Ruth & Gabriel Lit
DESCRIPTION:
URL:https://www.sarahruthalexander.com/event/sarah-ruth-gabriel-lit
LOCATION:Austin\, TX @ Batch
END:VEVENT
BEGIN:VEVENT
DTSTART;VALUE=DATE:20240912
DTEND;VALUE=DATE:20240915
DTSTAMP:20260425T053844
CREATED:20240825T020035Z
LAST-MODIFIED:20240825T020035Z
UID:3663-1726110000-1726282799@www.sarahruthalexander.com
SUMMARY:aqueous: Sarah Ruth & Rosemary Candelario
DESCRIPTION:
URL:https://www.sarahruthalexander.com/event/aqueous-sarah-ruth-rosemary-candelario-2
LOCATION:San Marcos\, TX @ Spring Lake @ Texas State University
END:VEVENT
BEGIN:VEVENT
DTSTART;VALUE=DATE:20240910
DTEND;VALUE=DATE:20240912
DTSTAMP:20260425T053844
CREATED:20240825T015428Z
LAST-MODIFIED:20240825T015428Z
UID:3656-1725937200-1726023599@www.sarahruthalexander.com
SUMMARY:Tiger D
DESCRIPTION:
URL:https://www.sarahruthalexander.com/event/tiger-d-346
LOCATION:8–10PM on 92.9FM\, Denton\, TX
END:VEVENT
BEGIN:VEVENT
DTSTART;VALUE=DATE:20240903
DTEND;VALUE=DATE:20240905
DTSTAMP:20260425T053844
CREATED:20240825T015420Z
LAST-MODIFIED:20240910T014527Z
UID:3655-1725332400-1725418799@www.sarahruthalexander.com
SUMMARY:Tiger D w/ guest Victoria Keddie
DESCRIPTION:
URL:https://www.sarahruthalexander.com/event/tiger-d-345
LOCATION:8–10PM on 92.9FM\, Denton\, TX
END:VEVENT
BEGIN:VEVENT
DTSTART;VALUE=DATE:20240827
DTEND;VALUE=DATE:20240829
DTSTAMP:20260425T053844
CREATED:20240726T030641Z
LAST-MODIFIED:20240828T071057Z
UID:3597-1724727600-1724813999@www.sarahruthalexander.com
SUMMARY:Tiger D w/ guest Mikey Sweetz
DESCRIPTION:
URL:https://www.sarahruthalexander.com/event/tiger-d-344
LOCATION:8–10PM on 92.9FM\, Denton\, TX
END:VEVENT
BEGIN:VEVENT
DTSTART;VALUE=DATE:20240824
DTEND;VALUE=DATE:20240826
DTSTAMP:20260425T053844
CREATED:20240817T091712Z
LAST-MODIFIED:20240828T071126Z
UID:3643-1724468400-1724554799@www.sarahruthalexander.com
SUMMARY:Sarah Ruth @ MusicSpeak @ Lit Hop 2024 w/ Stefan Gonzales\, Aaron Gonzales\, & EV
DESCRIPTION:
URL:https://www.sarahruthalexander.com/event/sarah-ruth-at-wordspace-lit-hop
LOCATION:Dallas\, TX @ Lucky Dog Books
END:VEVENT
BEGIN:VEVENT
DTSTART;VALUE=DATE:20240821
DTEND;VALUE=DATE:20240823
DTSTAMP:20260425T053844
CREATED:20240719T181811Z
LAST-MODIFIED:20240817T091519Z
UID:3573-1724209200-1724295599@www.sarahruthalexander.com
SUMMARY:Molten Plains XXVI w/ Heavy Stars\, MichaelMeadows/ChadMossholder\, & SarahGamblin/AndrewDunlap
DESCRIPTION:
URL:https://www.sarahruthalexander.com/event/molten-plains-xxvi
LOCATION:Denton\, TX @ Rubber Gloves
END:VEVENT
BEGIN:VEVENT
DTSTART;VALUE=DATE:20240820
DTEND;VALUE=DATE:20240822
DTSTAMP:20260425T053844
CREATED:20240726T030633Z
LAST-MODIFIED:20240726T030633Z
UID:3596-1724122800-1724209199@www.sarahruthalexander.com
SUMMARY:Tiger D
DESCRIPTION:
URL:https://www.sarahruthalexander.com/event/tiger-d-343
LOCATION:8–10PM on 92.9FM\, Denton\, TX
END:VEVENT
BEGIN:VEVENT
DTSTART;VALUE=DATE:20240818
DTEND;VALUE=DATE:20240820
DTSTAMP:20260425T053844
CREATED:20240726T030445Z
LAST-MODIFIED:20240726T030445Z
UID:3592-1723950000-1724036399@www.sarahruthalexander.com
SUMMARY:In Praise of Covers 35
DESCRIPTION:
URL:https://www.sarahruthalexander.com/event/in-praise-of-covers-35
LOCATION:8–10PM on 92.9FM\, Denton\, TX
END:VEVENT
BEGIN:VEVENT
DTSTART;VALUE=DATE:20240816
DTEND;VALUE=DATE:20240818
DTSTAMP:20260425T053844
CREATED:20240704T182317Z
LAST-MODIFIED:20240726T025940Z
UID:3560-1723777200-1723863599@www.sarahruthalexander.com
SUMMARY:Sarah Ruth w/ Chris Welch & Overstudied
DESCRIPTION:
URL:https://www.sarahruthalexander.com/event/sarah-ruth-w-chris-welch-overstudied
LOCATION:Fort Worth\, TX @ The Grackle Art Gallery
END:VEVENT
BEGIN:VEVENT
DTSTART;VALUE=DATE:20240813
DTEND;VALUE=DATE:20240815
DTSTAMP:20260425T053844
CREATED:20240726T030623Z
LAST-MODIFIED:20240726T030623Z
UID:3595-1723518000-1723604399@www.sarahruthalexander.com
SUMMARY:Tiger D
DESCRIPTION:
URL:https://www.sarahruthalexander.com/event/tiger-d-342
LOCATION:8–10PM on 92.9FM\, Denton\, TX
END:VEVENT
BEGIN:VEVENT
DTSTART;VALUE=DATE:20240806
DTEND;VALUE=DATE:20240808
DTSTAMP:20260425T053844
CREATED:20240726T030615Z
LAST-MODIFIED:20240726T030615Z
UID:3594-1722913200-1722999599@www.sarahruthalexander.com
SUMMARY:Tiger D
DESCRIPTION:
URL:https://www.sarahruthalexander.com/event/tiger-d-341
LOCATION:8–10PM on 92.9FM\, Denton\, TX
END:VEVENT
BEGIN:VEVENT
DTSTART;VALUE=DATE:20240730
DTEND;VALUE=DATE:20240801
DTSTAMP:20260425T053844
CREATED:20240621T070256Z
LAST-MODIFIED:20240621T070256Z
UID:3522-1722308400-1722394799@www.sarahruthalexander.com
SUMMARY:Tiger D
DESCRIPTION:
URL:https://www.sarahruthalexander.com/event/tiger-d-340
LOCATION:8–10PM on 92.9FM\, Denton\, TX
END:VEVENT
BEGIN:VEVENT
DTSTART;VALUE=DATE:20240723
DTEND;VALUE=DATE:20240725
DTSTAMP:20260425T053844
CREATED:20240621T070248Z
LAST-MODIFIED:20240621T070248Z
UID:3521-1721703600-1721789999@www.sarahruthalexander.com
SUMMARY:Tiger D
DESCRIPTION:
URL:https://www.sarahruthalexander.com/event/tiger-d-339
LOCATION:8–10PM on 92.9FM\, Denton\, TX
END:VEVENT
BEGIN:VEVENT
DTSTART;VALUE=DATE:20240721
DTEND;VALUE=DATE:20240723
DTSTAMP:20260425T053844
CREATED:20240621T070051Z
LAST-MODIFIED:20240621T070051Z
UID:3515-1721530800-1721617199@www.sarahruthalexander.com
SUMMARY:In Praise of Covers 34
DESCRIPTION:
URL:https://www.sarahruthalexander.com/event/in-praise-of-covers-34
LOCATION:8–10PM on 92.9FM\, Denton\, TX
END:VEVENT
BEGIN:VEVENT
DTSTART;VALUE=DATE:20240717
DTEND;VALUE=DATE:20240719
DTSTAMP:20260425T053844
CREATED:20240704T182058Z
LAST-MODIFIED:20240704T182058Z
UID:3556-1721185200-1721271599@www.sarahruthalexander.com
SUMMARY:Molten Plains XXV: Improv Lotto
DESCRIPTION:
URL:https://www.sarahruthalexander.com/event/molten-plains-xxv-improv-lotto
LOCATION:Denton\, TX @ Rubber Gloves
END:VEVENT
BEGIN:VEVENT
DTSTART;VALUE=DATE:20240716
DTEND;VALUE=DATE:20240718
DTSTAMP:20260425T053844
CREATED:20240621T070240Z
LAST-MODIFIED:20240710T013340Z
UID:3520-1721098800-1721185199@www.sarahruthalexander.com
SUMMARY:Tiger D w/ guest MATTIE
DESCRIPTION:
URL:https://www.sarahruthalexander.com/event/tiger-d-338
LOCATION:8–10PM on 92.9FM\, Denton\, TX
END:VEVENT
BEGIN:VEVENT
DTSTART;VALUE=DATE:20240709
DTEND;VALUE=DATE:20240711
DTSTAMP:20260425T053844
CREATED:20240621T070232Z
LAST-MODIFIED:20240621T070232Z
UID:3519-1720494000-1720580399@www.sarahruthalexander.com
SUMMARY:Tiger D
DESCRIPTION:
URL:https://www.sarahruthalexander.com/event/tiger-d-337
LOCATION:8–10PM on 92.9FM\, Denton\, TX
END:VEVENT
BEGIN:VEVENT
DTSTART;VALUE=DATE:20240702
DTEND;VALUE=DATE:20240704
DTSTAMP:20260425T053844
CREATED:20240621T070224Z
LAST-MODIFIED:20240701T002500Z
UID:3518-1719889200-1719975599@www.sarahruthalexander.com
SUMMARY:Tiger D w/ guest Kory Reeder
DESCRIPTION:
URL:https://www.sarahruthalexander.com/event/tiger-d-336
LOCATION:8–10PM on 92.9FM\, Denton\, TX
END:VEVENT
BEGIN:VEVENT
DTSTART;VALUE=DATE:20240629
DTEND;VALUE=DATE:20240701
DTSTAMP:20260425T053844
CREATED:20240422T204851Z
LAST-MODIFIED:20240622T150716Z
UID:3338-1719630000-1719716399@www.sarahruthalexander.com
SUMMARY:Sounds Modern: Surreal Rhythms
DESCRIPTION:
URL:https://www.sarahruthalexander.com/event/sounds-modern-surreal-rhythms
LOCATION:Fort Worth\, TX @ The Modern Art Museum of Fort Worth
END:VEVENT
BEGIN:VEVENT
DTSTART;VALUE=DATE:20240626
DTEND;VALUE=DATE:20240628
DTSTAMP:20260425T053844
CREATED:20240610T234401Z
LAST-MODIFIED:20240610T234714Z
UID:3475-1719370800-1719457199@www.sarahruthalexander.com
SUMMARY:Molten Plains XXIV w/ BS Noise Control\, Vaults of Zin\, KourtneyNewton/ElizabethMcNutt\, & Magic Improvised Ensemble
DESCRIPTION:
URL:https://www.sarahruthalexander.com/event/molten-plains-xxiv
LOCATION:Denton\, TX @ Rubber Gloves
END:VEVENT
BEGIN:VEVENT
DTSTART;VALUE=DATE:20240625
DTEND;VALUE=DATE:20240627
DTSTAMP:20260425T053844
CREATED:20240610T233913Z
LAST-MODIFIED:20240625T033144Z
UID:3464-1719284400-1719370799@www.sarahruthalexander.com
SUMMARY:Tiger D w/ guests Brian Nothin and Aaron Gonzalez
DESCRIPTION:
URL:https://www.sarahruthalexander.com/event/tiger-d-335
LOCATION:8–10PM on 92.9FM\, Denton\, TX
END:VEVENT
BEGIN:VEVENT
DTSTART;VALUE=DATE:20240618
DTEND;VALUE=DATE:20240620
DTSTAMP:20260425T053844
CREATED:20240610T233903Z
LAST-MODIFIED:20240610T233903Z
UID:3463-1718679600-1718765999@www.sarahruthalexander.com
SUMMARY:Tiger D
DESCRIPTION:
URL:https://www.sarahruthalexander.com/event/tiger-d-334
LOCATION:8–10PM on 92.9FM\, Denton\, TX
END:VEVENT
BEGIN:VEVENT
DTSTART;VALUE=DATE:20240616
DTEND;VALUE=DATE:20240618
DTSTAMP:20260425T053844
CREATED:20240610T234018Z
LAST-MODIFIED:20240610T234036Z
UID:3469-1718506800-1718593199@www.sarahruthalexander.com
SUMMARY:In Praise of Covers 33 w/ guest Daron Beck
DESCRIPTION:
URL:https://www.sarahruthalexander.com/event/in-praise-of-covers-33
LOCATION:8–10PM on 92.9FM\, Denton\, TX
END:VEVENT
BEGIN:VEVENT
DTSTART;VALUE=DATE:20240611
DTEND;VALUE=DATE:20240613
DTSTAMP:20260425T053844
CREATED:20240610T233854Z
LAST-MODIFIED:20240610T234058Z
UID:3462-1718074800-1718161199@www.sarahruthalexander.com
SUMMARY:Tiger D w/ guest Ken Shimamoto
DESCRIPTION:
URL:https://www.sarahruthalexander.com/event/tiger-d-333
LOCATION:8–10PM on 92.9FM\, Denton\, TX
END:VEVENT
BEGIN:VEVENT
DTSTART;VALUE=DATE:20240604
DTEND;VALUE=DATE:20240606
DTSTAMP:20260425T053844
CREATED:20240610T233844Z
LAST-MODIFIED:20240610T233844Z
UID:3461-1717470000-1717556399@www.sarahruthalexander.com
SUMMARY:Tiger D
DESCRIPTION:
URL:https://www.sarahruthalexander.com/event/tiger-d-332
LOCATION:8–10PM on 92.9FM\, Denton\, TX
END:VEVENT
BEGIN:VEVENT
DTSTART;VALUE=DATE:20240529
DTEND;VALUE=DATE:20240531
DTSTAMP:20260425T053844
CREATED:20240610T234758Z
LAST-MODIFIED:20240610T234822Z
UID:3479-1716951600-1717037999@www.sarahruthalexander.com
SUMMARY:Molten Plains XXIII w/ Anne-F Jacques\, RebeccaNovak/MiguelEspinel\, & Justin Lemons
DESCRIPTION:
URL:https://www.sarahruthalexander.com/event/molten-plains-xxiii
LOCATION:Denton\, TX @ Rubber Gloves
END:VEVENT
BEGIN:VEVENT
DTSTART;VALUE=DATE:20240528
DTEND;VALUE=DATE:20240530
DTSTAMP:20260425T053844
CREATED:20240501T204631Z
LAST-MODIFIED:20240501T204631Z
UID:3373-1716865200-1716951599@www.sarahruthalexander.com
SUMMARY:Tiger D
DESCRIPTION:
URL:https://www.sarahruthalexander.com/event/tiger-d-331
LOCATION:8–10PM on 92.9FM\, Denton\, TX
END:VEVENT
END:VCALENDAR