BEGIN:VCALENDAR
VERSION:2.0
PRODID:-//Sarah Ruth Alexander - ECPv6.15.20//NONSGML v1.0//EN
CALSCALE:GREGORIAN
METHOD:PUBLISH
X-WR-CALNAME:Sarah Ruth Alexander
X-ORIGINAL-URL:https://www.sarahruthalexander.com
X-WR-CALDESC:Events for Sarah Ruth Alexander
REFRESH-INTERVAL;VALUE=DURATION:PT1H
X-Robots-Tag:noindex
X-PUBLISHED-TTL:PT1H
BEGIN:VTIMEZONE
TZID:America/Chicago
BEGIN:DAYLIGHT
TZOFFSETFROM:-0600
TZOFFSETTO:-0500
TZNAME:CDT
DTSTART:20230312T080000
END:DAYLIGHT
BEGIN:STANDARD
TZOFFSETFROM:-0500
TZOFFSETTO:-0600
TZNAME:CST
DTSTART:20231105T070000
END:STANDARD
BEGIN:DAYLIGHT
TZOFFSETFROM:-0600
TZOFFSETTO:-0500
TZNAME:CDT
DTSTART:20240310T080000
END:DAYLIGHT
BEGIN:STANDARD
TZOFFSETFROM:-0500
TZOFFSETTO:-0600
TZNAME:CST
DTSTART:20241103T070000
END:STANDARD
BEGIN:DAYLIGHT
TZOFFSETFROM:-0600
TZOFFSETTO:-0500
TZNAME:CDT
DTSTART:20250309T080000
END:DAYLIGHT
BEGIN:STANDARD
TZOFFSETFROM:-0500
TZOFFSETTO:-0600
TZNAME:CST
DTSTART:20251102T070000
END:STANDARD
BEGIN:DAYLIGHT
TZOFFSETFROM:-0600
TZOFFSETTO:-0500
TZNAME:CDT
DTSTART:20260308T080000
END:DAYLIGHT
BEGIN:STANDARD
TZOFFSETFROM:-0500
TZOFFSETTO:-0600
TZNAME:CST
DTSTART:20261101T070000
END:STANDARD
END:VTIMEZONE
BEGIN:VEVENT
DTSTART;VALUE=DATE:20250216
DTEND;VALUE=DATE:20250218
DTSTAMP:20260424T092528
CREATED:20250122T144507Z
LAST-MODIFIED:20250205T015339Z
UID:4234-1739674800-1739761199@www.sarahruthalexander.com
SUMMARY:Covergrrrl
DESCRIPTION:
URL:https://www.sarahruthalexander.com/event/covergrrrl
LOCATION:8–10PM on 92.9FM\, Denton\, TX
END:VEVENT
BEGIN:VEVENT
DTSTART;VALUE=DATE:20250211
DTEND;VALUE=DATE:20250213
DTSTAMP:20260424T092528
CREATED:20250205T015218Z
LAST-MODIFIED:20250205T015218Z
UID:4293-1739242800-1739329199@www.sarahruthalexander.com
SUMMARY:Tiger D
DESCRIPTION:
URL:https://www.sarahruthalexander.com/event/tiger-d-366
LOCATION:8–10PM on 92.9FM\, Denton\, TX
END:VEVENT
BEGIN:VEVENT
DTSTART;VALUE=DATE:20250204
DTEND;VALUE=DATE:20250206
DTSTAMP:20260424T092528
CREATED:20250205T015151Z
LAST-MODIFIED:20250205T015151Z
UID:4292-1738638000-1738724399@www.sarahruthalexander.com
SUMMARY:Tiger D Rerun from 2024/02/06 w/ guest Susan Alcorn
DESCRIPTION:
URL:https://www.sarahruthalexander.com/event/tiger-d-rerun-from-2024-02-06-w-guest-susan-alcorn
LOCATION:8–10PM on 92.9FM\, Denton\, TX
END:VEVENT
BEGIN:VEVENT
DTSTART;VALUE=DATE:20250128
DTEND;VALUE=DATE:20250130
DTSTAMP:20260424T092528
CREATED:20250106T162932Z
LAST-MODIFIED:20250106T162932Z
UID:4143-1738033200-1738119599@www.sarahruthalexander.com
SUMMARY:Tiger D
DESCRIPTION:
URL:https://www.sarahruthalexander.com/event/tiger-d-365
LOCATION:8–10PM on 92.9FM\, Denton\, TX
END:VEVENT
BEGIN:VEVENT
DTSTART;VALUE=DATE:20250122
DTEND;VALUE=DATE:20250124
DTSTAMP:20260424T092528
CREATED:20250106T163103Z
LAST-MODIFIED:20250617T051947Z
UID:4148-1737514800-1737601199@www.sarahruthalexander.com
SUMMARY:Joan of Bark presents Improv Lotto
DESCRIPTION:
URL:https://www.sarahruthalexander.com/event/joan-of-bark-presents-1
LOCATION:Denton\, TX @ Rubber Gloves
END:VEVENT
BEGIN:VEVENT
DTSTART;VALUE=DATE:20250121
DTEND;VALUE=DATE:20250123
DTSTAMP:20260424T092528
CREATED:20250106T162923Z
LAST-MODIFIED:20250114T183352Z
UID:4142-1737428400-1737514799@www.sarahruthalexander.com
SUMMARY:Tiger D w/ guest host Stephen Lucas
DESCRIPTION:
URL:https://www.sarahruthalexander.com/event/tiger-d-364
LOCATION:8–10PM on 92.9FM\, Denton\, TX
END:VEVENT
BEGIN:VEVENT
DTSTART;VALUE=DATE:20250119
DTEND;VALUE=DATE:20250121
DTSTAMP:20260424T092528
CREATED:20241119T193938Z
LAST-MODIFIED:20250120T020123Z
UID:3886-1737255600-1737341999@www.sarahruthalexander.com
SUMMARY:Covergrrrl
DESCRIPTION:
URL:https://www.sarahruthalexander.com/event/covergrrrl-1
LOCATION:8–10PM on 92.9FM\, Denton\, TX
END:VEVENT
BEGIN:VEVENT
DTSTART;VALUE=DATE:20250114
DTEND;VALUE=DATE:20250116
DTSTAMP:20260424T092528
CREATED:20250106T162914Z
LAST-MODIFIED:20250114T183321Z
UID:4141-1736823600-1736909999@www.sarahruthalexander.com
SUMMARY:Tiger D w/ guest Eileen Myles
DESCRIPTION:
URL:https://www.sarahruthalexander.com/event/tiger-d-363
LOCATION:8–10PM on 92.9FM\, Denton\, TX
END:VEVENT
BEGIN:VEVENT
DTSTART;VALUE=DATE:20250112
DTEND;VALUE=DATE:20250114
DTSTAMP:20260424T092528
CREATED:20241204T015322Z
LAST-MODIFIED:20250106T162807Z
UID:3976-1736650800-1736737199@www.sarahruthalexander.com
SUMMARY:Sarah Ruth w/ Cal Folger Day\, Sevigh\, & KristinaSmith/RachelWeaver/SuzanneTerry/StephenLucas
DESCRIPTION:
URL:https://www.sarahruthalexander.com/event/sarah-ruth-w-cal-folger-day
LOCATION:Denton\, TX @ Rubber Gloves
END:VEVENT
BEGIN:VEVENT
DTSTART;VALUE=DATE:20250107
DTEND;VALUE=DATE:20250109
DTSTAMP:20260424T092528
CREATED:20250106T162904Z
LAST-MODIFIED:20250106T162904Z
UID:4140-1736218800-1736305199@www.sarahruthalexander.com
SUMMARY:Tiger D
DESCRIPTION:
URL:https://www.sarahruthalexander.com/event/tiger-d-362
LOCATION:8–10PM on 92.9FM\, Denton\, TX
END:VEVENT
BEGIN:VEVENT
DTSTART;VALUE=DATE:20241231
DTEND;VALUE=DATE:20250102
DTSTAMP:20260424T092528
CREATED:20241204T015153Z
LAST-MODIFIED:20241204T015153Z
UID:3970-1735614000-1735700399@www.sarahruthalexander.com
SUMMARY:Tiger D
DESCRIPTION:
URL:https://www.sarahruthalexander.com/event/tiger-d-361
LOCATION:8–10PM on 92.9FM\, Denton\, TX
END:VEVENT
BEGIN:VEVENT
DTSTART;VALUE=DATE:20241224
DTEND;VALUE=DATE:20241226
DTSTAMP:20260424T092528
CREATED:20241204T015146Z
LAST-MODIFIED:20241204T015146Z
UID:3969-1735009200-1735095599@www.sarahruthalexander.com
SUMMARY:Tiger D
DESCRIPTION:
URL:https://www.sarahruthalexander.com/event/tiger-d-360
LOCATION:8–10PM on 92.9FM\, Denton\, TX
END:VEVENT
BEGIN:VEVENT
DTSTART;VALUE=DATE:20241217
DTEND;VALUE=DATE:20241219
DTSTAMP:20260424T092528
CREATED:20241204T015138Z
LAST-MODIFIED:20241204T015138Z
UID:3968-1734404400-1734490799@www.sarahruthalexander.com
SUMMARY:Tiger D
DESCRIPTION:
URL:https://www.sarahruthalexander.com/event/tiger-d-359
LOCATION:8–10PM on 92.9FM\, Denton\, TX
END:VEVENT
BEGIN:VEVENT
DTSTART;VALUE=DATE:20241214
DTEND;VALUE=DATE:20241216
DTSTAMP:20260424T092528
CREATED:20241023T055645Z
LAST-MODIFIED:20241119T194204Z
UID:3766-1734145200-1734231599@www.sarahruthalexander.com
SUMMARY:Sounds Modern: Sounds of Home
DESCRIPTION:
URL:https://www.sarahruthalexander.com/event/sounds-modern-sounds-of-home
LOCATION:Fort Worth\, TX @ The Modern Art Museum of Fort Worth
END:VEVENT
BEGIN:VEVENT
DTSTART;VALUE=DATE:20241214
DTEND;VALUE=DATE:20241216
DTSTAMP:20260424T092528
CREATED:20241023T055624Z
LAST-MODIFIED:20241119T194219Z
UID:3765-1734145200-1734231599@www.sarahruthalexander.com
SUMMARY:Molten Plains Fest
DESCRIPTION:
URL:https://www.sarahruthalexander.com/event/molten-plains-fest-3
LOCATION:Denton\, TX @ Rubber Gloves
END:VEVENT
BEGIN:VEVENT
DTSTART;VALUE=DATE:20241210
DTEND;VALUE=DATE:20241212
DTSTAMP:20260424T092528
CREATED:20241204T015128Z
LAST-MODIFIED:20241204T015128Z
UID:3967-1733799600-1733885999@www.sarahruthalexander.com
SUMMARY:Tiger D
DESCRIPTION:
URL:https://www.sarahruthalexander.com/event/tiger-d-358
LOCATION:8–10PM on 92.9FM\, Denton\, TX
END:VEVENT
BEGIN:VEVENT
DTSTART;VALUE=DATE:20241203
DTEND;VALUE=DATE:20241205
DTSTAMP:20260424T092528
CREATED:20241204T015120Z
LAST-MODIFIED:20241204T015120Z
UID:3966-1733194800-1733281199@www.sarahruthalexander.com
SUMMARY:Tiger D
DESCRIPTION:
URL:https://www.sarahruthalexander.com/event/tiger-d-357
LOCATION:8–10PM on 92.9FM\, Denton\, TX
END:VEVENT
BEGIN:VEVENT
DTSTART;VALUE=DATE:20241126
DTEND;VALUE=DATE:20241128
DTSTAMP:20260424T092528
CREATED:20241104T051206Z
LAST-MODIFIED:20241127T015759Z
UID:3796-1732590000-1732676399@www.sarahruthalexander.com
SUMMARY:Tiger D w/ Cathy\, Carl\, Jandel\, & Joan
DESCRIPTION:
URL:https://www.sarahruthalexander.com/event/tiger-d-356
LOCATION:8–10PM on 92.9FM\, Denton\, TX
END:VEVENT
BEGIN:VEVENT
DTSTART;VALUE=DATE:20241125
DTEND;VALUE=DATE:20241127
DTSTAMP:20260424T092528
CREATED:20241119T193017Z
LAST-MODIFIED:20241119T193017Z
UID:3882-1732503600-1732589999@www.sarahruthalexander.com
SUMMARY:SarahRuth/MleeMarie @ They Who Sound w/ Snowflake
DESCRIPTION:
URL:https://www.sarahruthalexander.com/event/sarahruth-mleemarie-they-who-sound-w-snowflake
LOCATION:Houston\, TX @ Lawndale Art Center
END:VEVENT
BEGIN:VEVENT
DTSTART;VALUE=DATE:20241120
DTEND;VALUE=DATE:20241122
DTSTAMP:20260424T092528
CREATED:20241106T014153Z
LAST-MODIFIED:20241106T014153Z
UID:3805-1732071600-1732157999@www.sarahruthalexander.com
SUMMARY:Molten Plains XXIX: Improv Lotto
DESCRIPTION:
URL:https://www.sarahruthalexander.com/event/molten-plains-xxix-improv-lotto
LOCATION:Denton\, TX @ Rubber Gloves
END:VEVENT
BEGIN:VEVENT
DTSTART;VALUE=DATE:20241119
DTEND;VALUE=DATE:20241121
DTSTAMP:20260424T092528
CREATED:20241104T051158Z
LAST-MODIFIED:20241104T051158Z
UID:3795-1731985200-1732071599@www.sarahruthalexander.com
SUMMARY:Tiger D
DESCRIPTION:
URL:https://www.sarahruthalexander.com/event/tiger-d-355
LOCATION:8–10PM on 92.9FM\, Denton\, TX
END:VEVENT
BEGIN:VEVENT
DTSTART;VALUE=DATE:20241117
DTEND;VALUE=DATE:20241119
DTSTAMP:20260424T092528
CREATED:20241023T055436Z
LAST-MODIFIED:20241119T193856Z
UID:3762-1731812400-1731898799@www.sarahruthalexander.com
SUMMARY:In Praise of Covers 29 Rerun from 2024/01/21
DESCRIPTION:
URL:https://www.sarahruthalexander.com/event/in-praise-of-covers-29-rerun-20240121
LOCATION:8–10PM on 92.9FM\, Denton\, TX
END:VEVENT
BEGIN:VEVENT
DTSTART;VALUE=DATE:20241114
DTEND;VALUE=DATE:20241116
DTSTAMP:20260424T092528
CREATED:20241105T135034Z
LAST-MODIFIED:20241107T035756Z
UID:3802-1731553200-1731639599@www.sarahruthalexander.com
SUMMARY:Sarah Ruth w/ Justin Houser
DESCRIPTION:
URL:https://www.sarahruthalexander.com/event/sarah-ruth-w-justin-houser
LOCATION:Lubbock\, TX @ CO-OPt Research + Projects
END:VEVENT
BEGIN:VEVENT
DTSTART;VALUE=DATE:20241112
DTEND;VALUE=DATE:20241114
DTSTAMP:20260424T092528
CREATED:20241104T051149Z
LAST-MODIFIED:20241104T051149Z
UID:3794-1731380400-1731466799@www.sarahruthalexander.com
SUMMARY:Tiger D
DESCRIPTION:
URL:https://www.sarahruthalexander.com/event/tiger-d-354
LOCATION:8–10PM on 92.9FM\, Denton\, TX
END:VEVENT
BEGIN:VEVENT
DTSTART;VALUE=DATE:20241105
DTEND;VALUE=DATE:20241107
DTSTAMP:20260424T092528
CREATED:20241104T051139Z
LAST-MODIFIED:20241104T051224Z
UID:3793-1730775600-1730861999@www.sarahruthalexander.com
SUMMARY:Tiger D w/ guest Aaron Gonzalez
DESCRIPTION:
URL:https://www.sarahruthalexander.com/event/tiger-d-353
LOCATION:8–10PM on 92.9FM\, Denton\, TX
END:VEVENT
BEGIN:VEVENT
DTSTART;VALUE=DATE:20241030
DTEND;VALUE=DATE:20241101
DTSTAMP:20260424T092528
CREATED:20240923T054819Z
LAST-MODIFIED:20241016T052129Z
UID:3700-1730257200-1730343599@www.sarahruthalexander.com
SUMMARY:Molten Plains XVIII w/ Will Guthrie\, Rob Magill\, & KristinaSmith/RachelWeaver/StephenLucas
DESCRIPTION:
URL:https://www.sarahruthalexander.com/event/molten-plains-xviii
LOCATION:Denton\, TX @ Rubber Gloves
END:VEVENT
BEGIN:VEVENT
DTSTART;VALUE=DATE:20241029
DTEND;VALUE=DATE:20241031
DTSTAMP:20260424T092528
CREATED:20240930T063211Z
LAST-MODIFIED:20241104T051058Z
UID:3720-1730170800-1730257199@www.sarahruthalexander.com
SUMMARY:Tiger D w/ guest Miguel Espinel
DESCRIPTION:
URL:https://www.sarahruthalexander.com/event/tiger-d-352
LOCATION:8–10PM on 92.9FM\, Denton\, TX
END:VEVENT
BEGIN:VEVENT
DTSTART;VALUE=DATE:20241022
DTEND;VALUE=DATE:20241024
DTSTAMP:20260424T092528
CREATED:20240930T063201Z
LAST-MODIFIED:20241023T055340Z
UID:3719-1729566000-1729652399@www.sarahruthalexander.com
SUMMARY:Tiger D Rerun from 2020/10/27 w/ guest Daron Beck
DESCRIPTION:
URL:https://www.sarahruthalexander.com/event/tiger-d-rerun-20201027
LOCATION:8–10PM on 92.9FM\, Denton\, TX
END:VEVENT
BEGIN:VEVENT
DTSTART;VALUE=DATE:20241020
DTEND;VALUE=DATE:20241022
DTSTAMP:20260424T092528
CREATED:20240916T071327Z
LAST-MODIFIED:20241023T055216Z
UID:3692-1729393200-1729479599@www.sarahruthalexander.com
SUMMARY:In Praise of Covers 32 Rerun from 2024/05/19
DESCRIPTION:
URL:https://www.sarahruthalexander.com/event/in-praise-of-covers-32-rerun-20240519
LOCATION:8–10PM on 92.9FM\, Denton\, TX
END:VEVENT
BEGIN:VEVENT
DTSTART;VALUE=DATE:20241015
DTEND;VALUE=DATE:20241017
DTSTAMP:20260424T092528
CREATED:20240930T063153Z
LAST-MODIFIED:20240930T063153Z
UID:3718-1728961200-1729047599@www.sarahruthalexander.com
SUMMARY:Tiger D
DESCRIPTION:
URL:https://www.sarahruthalexander.com/event/tiger-d-351
LOCATION:8–10PM on 92.9FM\, Denton\, TX
END:VEVENT
END:VCALENDAR