BEGIN:VCALENDAR
VERSION:2.0
PRODID:-//Sarah Ruth Alexander - ECPv6.15.20//NONSGML v1.0//EN
CALSCALE:GREGORIAN
METHOD:PUBLISH
X-WR-CALNAME:Sarah Ruth Alexander
X-ORIGINAL-URL:https://www.sarahruthalexander.com
X-WR-CALDESC:Events for Sarah Ruth Alexander
REFRESH-INTERVAL;VALUE=DURATION:PT1H
X-Robots-Tag:noindex
X-PUBLISHED-TTL:PT1H
BEGIN:VTIMEZONE
TZID:America/Chicago
BEGIN:DAYLIGHT
TZOFFSETFROM:-0600
TZOFFSETTO:-0500
TZNAME:CDT
DTSTART:20240310T080000
END:DAYLIGHT
BEGIN:STANDARD
TZOFFSETFROM:-0500
TZOFFSETTO:-0600
TZNAME:CST
DTSTART:20241103T070000
END:STANDARD
BEGIN:DAYLIGHT
TZOFFSETFROM:-0600
TZOFFSETTO:-0500
TZNAME:CDT
DTSTART:20250309T080000
END:DAYLIGHT
BEGIN:STANDARD
TZOFFSETFROM:-0500
TZOFFSETTO:-0600
TZNAME:CST
DTSTART:20251102T070000
END:STANDARD
BEGIN:DAYLIGHT
TZOFFSETFROM:-0600
TZOFFSETTO:-0500
TZNAME:CDT
DTSTART:20260308T080000
END:DAYLIGHT
BEGIN:STANDARD
TZOFFSETFROM:-0500
TZOFFSETTO:-0600
TZNAME:CST
DTSTART:20261101T070000
END:STANDARD
END:VTIMEZONE
BEGIN:VEVENT
DTSTART;VALUE=DATE:20250819
DTEND;VALUE=DATE:20250821
DTSTAMP:20260425T180526
CREATED:20250801T193941Z
LAST-MODIFIED:20250801T194030Z
UID:5571-1755572400-1755658799@www.sarahruthalexander.com
SUMMARY:Tiger D w/ guest host Stephen Lucas
DESCRIPTION:
URL:https://www.sarahruthalexander.com/event/tiger-d-393
LOCATION:8–10PM on 92.9FM\, Denton\, TX
END:VEVENT
BEGIN:VEVENT
DTSTART;VALUE=DATE:20250819
DTEND;VALUE=DATE:20250821
DTSTAMP:20260425T180526
CREATED:20250806T031729Z
LAST-MODIFIED:20250806T031729Z
UID:5636-1755572400-1755658799@www.sarahruthalexander.com
SUMMARY:Sarah Ruth @ unpoetry w/ Sullivan Forderhase\, Rachel Leblanc\, Rose Martin\, & Sophie Chin
DESCRIPTION:
URL:https://www.sarahruthalexander.com/event/sarah-ruth-unpoetry-w-sullivan-forderhase-rachel-leblanc-rose-martin-sophie-chin
LOCATION:Seattle\, WA @ Bad Bar
END:VEVENT
END:VCALENDAR